BEGIN:VCALENDAR
VERSION:2.0
PRODID:-//ChamberMaster//Event Calendar 2.0//EN
METHOD:PUBLISH
X-PUBLISHED-TTL:P3D
REFRESH-INTERVAL:P3D
CALSCALE:GREGORIAN
BEGIN:VEVENT
DTSTART:20180130T180000Z
DTEND:20180130T230000Z
X-MICROSOFT-CDO-ALLDAYEVENT:FALSE
SUMMARY:Blood Drive at Bridgewater College
DESCRIPTION:Bridgewater College is hosting a public blood drive at the Funkhouser Center on Tuesday\, January 30th from 1 pm to 6 pm. Donors receive a thank-you knit cap\, while supplies last! Walk-ins are welcome\, but appointments are encouraged. To secure your spot\, visit https://donateblood.vablood.org.
X-ALT-DESC;FMTTYPE=text/html:Bridgewater College is hosting a public blood drive at the Funkhouser Center on Tuesday\, January 30th from 1 pm to 6 pm. Donors receive a thank-you knit cap\, while supplies last! Walk-ins are welcome\, but appointments are encouraged. To secure your spot\, visit https://donateblood.vablood.org.
LOCATION:Funkhouser Center for Health and Wellness 117 College View Drive Bridgewater\, VA
UID:e.2338.3526
SEQUENCE:3
DTSTAMP:20260420T073013Z
URL:https://chamber.hrchamber.org/events/details/blood-drive-at-bridgewater-college-01-30-2018-3526
END:VEVENT

END:VCALENDAR
