BEGIN:VCALENDAR
VERSION:2.0
PRODID:-//ChamberMaster//Event Calendar 2.0//EN
METHOD:PUBLISH
X-PUBLISHED-TTL:P3D
REFRESH-INTERVAL:P3D
CALSCALE:GREGORIAN
BEGIN:VEVENT
DTSTART:20170430T123000Z
DTEND:20170430T163000Z
X-MICROSOFT-CDO-ALLDAYEVENT:FALSE
SUMMARY:Blessed Sacrament Bloodmobile Drive
DESCRIPTION:Blessed Sacrament Catholic Church is hosting a Bloodmobile on Sunday\, April 30th from 8:30 am to 12:30 pm. Free tote bags for all donors while supplies last! Walk-ins are welcome\, but appointments are encouraged. To sign up\, please visit https://donateblood.vablood.org.
X-ALT-DESC;FMTTYPE=text/html:Blessed Sacrament Catholic Church is hosting a Bloodmobile on Sunday\, April 30th from 8:30 am to 12:30 pm. Free tote bags for all donors while supplies last! Walk-ins are welcome\, but appointments are encouraged. To sign up\, please visit https://donateblood.vablood.org.
LOCATION:Blessed Sacrament Catholic Church 154 North Main Street Harrisonburg VA 22802
UID:e.2338.1728
SEQUENCE:3
DTSTAMP:20260421T120933Z
URL:https://chamber.hrchamber.org/events/details/blessed-sacrament-bloodmobile-drive-1728
END:VEVENT

END:VCALENDAR
