BEGIN:VCALENDAR
VERSION:2.0
PRODID:-//ChamberMaster//Event Calendar 2.0//EN
METHOD:PUBLISH
X-PUBLISHED-TTL:P3D
REFRESH-INTERVAL:P3D
CALSCALE:GREGORIAN
BEGIN:VEVENT
DTSTART:20180221T000000Z
DTEND:20180221T013000Z
X-MICROSOFT-CDO-ALLDAYEVENT:FALSE
SUMMARY:Bikepacking and Beers
DESCRIPTION:Join Bluestone Bike & Run at Pale Fire Brewing for a first hand perspective of riding the complete Great Divide Trail. Adam Ritter and Jess Daddio will have a short presentation and then open the floor for conversation about their trip. They will discuss how the couple planned and prepared for the ride\, the essential gear they used\, and suggest some changes they would make if they were to do it again. Their bikes and gear will also be on display at the brewery. We hope you can make it to hear about their incredible adventure. Who knows maybe you'll want to do it one day!
X-ALT-DESC;FMTTYPE=text/html:Join Bluestone Bike &amp\; Run at Pale Fire Brewing for a first hand perspective of riding the complete Great Divide Trail. Adam Ritter and Jess Daddio will have a short presentation and then open the floor for conversation about their trip. They will discuss how the couple planned and prepared for the ride\, the essential gear they used\, and suggest some changes they would make if they were to do it again. Their bikes and gear will also be on display at the brewery. We hope you can make it to hear about their incredible adventure. Who knows maybe you&#39\;ll want to do it one day!
LOCATION:Pale Fire Brewing
UID:e.2338.3634
SEQUENCE:3
DTSTAMP:20260420T084427Z
URL:https://chamber.hrchamber.org/events/details/bikepacking-and-beers-3634
END:VEVENT

END:VCALENDAR
