BEGIN:VCALENDAR
VERSION:2.0
PRODID:-//ChamberMaster//Event Calendar 2.0//EN
METHOD:PUBLISH
X-PUBLISHED-TTL:P3D
REFRESH-INTERVAL:P3D
CALSCALE:GREGORIAN
BEGIN:VEVENT
DTSTART:20161110T230000Z
DTEND:20161221T010000Z
X-MICROSOFT-CDO-ALLDAYEVENT:FALSE
SUMMARY:Beginner Spanish Conversation Class
DESCRIPTION:Would you like to communicate with Spanish speakers in your workplace\, neighborhood or out in the community? If so\, join our class beginner conversation class Tuesdays & Thursdays 6-8pm\, November 10th-December 20th (no class on Thanksgiving) at Skyline Literacy! Cost is $125 and class size is limited! To learn more or register- call 540-433-0505 or e-mail skylineliteracy@gmail.com!
X-ALT-DESC;FMTTYPE=text/html:Would you like to communicate with Spanish speakers in your workplace\, neighborhood or out in the community? If so\, join our class beginner conversation class Tuesdays &amp\; Thursdays 6-8pm\, November 10th-December 20th (no class on Thanksgiving) at Skyline Literacy! Cost is $125 and class size is limited! To learn more or register- call 540-433-0505 or e-mail skylineliteracy@gmail.com!
LOCATION:Skyline Literacy\, 160 N. Mason St. Harrisonburg\, VA 22802
UID:e.2338.1506
SEQUENCE:3
DTSTAMP:20260421T184409Z
URL:https://chamber.hrchamber.org/events/details/beginner-spanish-conversation-class-1506
END:VEVENT

END:VCALENDAR
