BEGIN:VCALENDAR
VERSION:2.0
PRODID:-//ChamberMaster//Event Calendar 2.0//EN
METHOD:PUBLISH
X-PUBLISHED-TTL:P3D
REFRESH-INTERVAL:P3D
CALSCALE:GREGORIAN
BEGIN:VEVENT
DTSTART:20180222T233000Z
DTEND:20180223T010000Z
X-MICROSOFT-CDO-ALLDAYEVENT:FALSE
SUMMARY:Beginner Knitting at The Village Arts Center
DESCRIPTION:Have you always wanted to learn to knit? Did you learn once before\, but can't remember how to get started again? Carrie McGary is a master knitter who can help! Plan to join us and learn about how to cast on\, knit and purl. We'll provide the needles\, you provide the yarn\, and Carrie will provide enthusiastic and encouraging instruction! \n\n\n\nYou can do this!!\n\n\n\n*The fee for this evening's knitting class is $35 per person. Space is limited in this class\, and guests aged 12 and up are invited to make a reservation by clicking here.  \n\n\n\nThe Village Arts Center is a privately owned community and arts center located on Main Street in Broadway\, Virginia.  It is our goal to provide a safe\, comfortable environment for our guests to relax\, share\, learn\, and develop relationships with like-minded folks in their community.\n\n\n\nTake an art class\, join us for a family event\, sign up for music lessons\, plan a special event\, share your skills\, or just come by to say hello!  \n\n\n\n We are only 12 miles north of Harrisonburg\, and the ride down Route 42 is peaceful.  While you're in Broadway\, plan to visit the spacious parks\, family friendly restaurants\, quaint shops\, nursery and garden center\, cozy library\, local farmer's market and more!
X-ALT-DESC;FMTTYPE=text/html:<span style="font-size:14px\;"><span style="font-family: arial\;"><span style="color: rgb(75\, 79\, 86)\; font-weight: 400\;">Have you always wanted to learn to knit? Did you learn once before\, but can&#39\;t remember how to get started again? Carrie McGary is a master knitter who can help! Plan to join us and learn about how to cast on\, knit and purl. We&#39\;ll provide the needles\, you provide the yarn\, and Carrie will provide enthusiastic and encouraging instruction! </span><br />\n<br />\n<span style="color: rgb(75\, 79\, 86)\; font-weight: 400\;">You can do this!!</span><br />\n<br />\n<span style="color: rgb(75\, 79\, 86)\; font-weight: 400\;">*The fee for this evening&#39\;s knitting class is $35 per person. Space is limited in this class\, and guests aged 12 and up are invited to make a reservation by <a href="https://www.thevillageartscenter.com/store/p97/Beginner_Knitting_with_Carrie_McGary__2%2F22_%40_6%3A30__%2435.html?utm_source=Friends+of+the+Village+Arts+Center&amp\;utm_campaign=03414abf2f-EMAIL_CAMPAIGN_2018_02_17&amp\;utm_medium=email&amp\;utm_term=0_e3cd0de18c-03414abf2f-63078191">clicking here</a>.</span>&#8203\;&#8203\;<br />\n<br />\n<em>The Village Arts Center is a privately owned community and arts center located on Main Street in Broadway\, Virginia.&nbsp\; It is our goal to provide a safe\, comfortable environment for our guests to relax\, share\, learn\, and develop relationships with like-minded folks in their community.<br />\n<br />\nTake an art class\, join us for a family event\, sign up for music lessons\, plan a special event\, share your skills\, or just come by to say hello!&nbsp\;&nbsp\;</em><br />\n<br />\n<em>&#8203\;We are only 12 miles north of Harrisonburg\, and the ride down Route 42 is peaceful.&nbsp\; While you&#39\;re in Broadway\, plan to visit the spacious parks\, family friendly restaurants\, quaint shops\, nursery and garden center\, cozy library\, local farmer&#39\;s market and more!</em></span></span><br />\n<br />\n&nbsp\;
LOCATION:The Village Arts Center 141 South Main Street Broadway\, VA 22815
UID:e.2338.3654
SEQUENCE:3
DTSTAMP:20260420T101007Z
URL:https://chamber.hrchamber.org/events/details/beginner-knitting-at-the-village-arts-center-3654
END:VEVENT

END:VCALENDAR
