BEGIN:VCALENDAR
VERSION:2.0
PRODID:-//ChamberMaster//Event Calendar 2.0//EN
METHOD:PUBLISH
X-PUBLISHED-TTL:P3D
REFRESH-INTERVAL:P3D
CALSCALE:GREGORIAN
BEGIN:VEVENT
DTSTART:20150727T230000Z
DTEND:20150728T020000Z
X-MICROSOFT-CDO-ALLDAYEVENT:FALSE
SUMMARY:Beer V. Wine Dinner
DESCRIPTION:Join us at The Urban Tavern in Richmond Virginia for the first ever Beer V. Wine Dinner featuring Brothers Craft Brewing and Bluestone Vineyard.
X-ALT-DESC;FMTTYPE=text/html:Join us at The Urban Tavern in Richmond Virginia for the first ever Beer V. Wine Dinner featuring Brothers Craft Brewing and Bluestone Vineyard.
LOCATION:The Urban Tavern- Richmond\, Va
UID:e.2338.269
SEQUENCE:3
DTSTAMP:20260424T190337Z
URL:https://chamber.hrchamber.org/events/details/beer-v-wine-dinner-07-27-2015-269
END:VEVENT

END:VCALENDAR
