BEGIN:VCALENDAR
VERSION:2.0
PRODID:-//ChamberMaster//Event Calendar 2.0//EN
METHOD:PUBLISH
X-PUBLISHED-TTL:P3D
REFRESH-INTERVAL:P3D
CALSCALE:GREGORIAN
BEGIN:VEVENT
DTSTART:20170708T011500Z
DTEND:20170708T024000Z
X-MICROSOFT-CDO-ALLDAYEVENT:FALSE
SUMMARY:Beatriz at Dinner
DESCRIPTION:Beatriz (Selma Hayek)\, an immigrant from a poor town in Mexico\, has drawn on her innate kindness to build a career as a health practitioner in Los Angeles. She collides with her polar opposite\, a self-satisfied billionaire (John Lithgow)\, at a wealthy client's dinner party.
X-ALT-DESC;FMTTYPE=text/html:Beatriz (Selma Hayek)\, an immigrant from a poor town in Mexico\, has drawn on her innate kindness to build a career as a health practitioner in Los Angeles. She collides with her polar opposite\, a self-satisfied billionaire (John Lithgow)\, at a wealthy client&#39\;s dinner party.
LOCATION:Court Square Theater 41-F Court Square Harrisonburg\, VA 22801
UID:e.2338.3157
SEQUENCE:3
DTSTAMP:20260419T220747Z
URL:https://chamber.hrchamber.org/events/details/beatriz-at-dinner-07-07-2017-3157
END:VEVENT

END:VCALENDAR
