BEGIN:VCALENDAR
VERSION:2.0
PRODID:-//ChamberMaster//Event Calendar 2.0//EN
METHOD:PUBLISH
X-PUBLISHED-TTL:P3D
REFRESH-INTERVAL:P3D
CALSCALE:GREGORIAN
BEGIN:VEVENT
DTSTART:20190613T233000Z
DTEND:20190614T010000Z
X-MICROSOFT-CDO-ALLDAYEVENT:FALSE
SUMMARY:Baroque Academy Faculty Concert - Bach says Bonjour
DESCRIPTION:Creation is the theme of the 27th annual Shenandoah Valley Bach Festival\, to be held in Harrisonburg June 9-16\, 2019. This year's concert by the faculty of the Virginia Baroque Academy will center on the music of J.S. Bach and his neighbors from across the Rhine in France. Featured on the program will be an aria by Bach\, a concert royal of Fran ois Couperin\, sonatas of Buxtehude\, Telemann\, Rameau\, and more.
X-ALT-DESC;FMTTYPE=text/html:<p><span style="font-size:14px"><span style="background-color:transparent\; color:rgb(0\, 0\, 0)\; font-family:cambria">Creation is the theme of the 27th annual Shenandoah Valley Bach Festival\, to be held in Harrisonburg June 9-16\, 2019. This year&#39\;s concert by the faculty of the Virginia Baroque Academy will center on the music of J.S. Bach and his neighbors from across the Rhine in France. Featured on the program will be an aria by Bach\, a&nbsp\;</span><em>concert royal</em><span style="background-color:transparent\; color:rgb(0\, 0\, 0)\; font-family:cambria">&nbsp\;of Fran&ccedil\;ois Couperin\, sonatas of Buxtehude\, Telemann\, Rameau\, and more.&nbsp\; </span></span></p>\n\n<div>&nbsp\;</div>\n
LOCATION:Asbury United Methodist Church 205 S. Main Street Harrisonburg\, VA 22801
UID:e.2338.6353
SEQUENCE:3
DTSTAMP:20260419T212805Z
URL:https://chamber.hrchamber.org/events/details/baroque-academy-faculty-concert-bach-says-bonjour-6353
END:VEVENT

END:VCALENDAR
