BEGIN:VCALENDAR
VERSION:2.0
PRODID:-//ChamberMaster//Event Calendar 2.0//EN
METHOD:PUBLISH
X-PUBLISHED-TTL:P3D
REFRESH-INTERVAL:P3D
CALSCALE:GREGORIAN
BEGIN:VEVENT
DTSTART:20190622T140000Z
DTEND:20190622T170000Z
X-MICROSOFT-CDO-ALLDAYEVENT:FALSE
SUMMARY:Backyard Pitmaster Class @ Rocking R Hardware
DESCRIPTION:Join multi-championship Pitmaster Sterling Smith and take your Grilling and Smoking Skills to Professional Levels. You will learn to make an array of irresistible food on the Green Mountain Pellet Grill. All grill types are welcome and will learn from this class: Wood Pellets\, Gas\, Charcoal\, etc. \n\n\n\nSterling Smith\, founder and Pitmaster of Loot n' Booty BBQ\, is flying in from Scottsdale Arizona just for this class. Sterling is known internationally as an authority on wood fire cooking\, specializing in all your competition favorites\; Beef\, pork\, chicken as well as lamb. Ch f Roba r says "it is worth the price of admission for just one bite of Sterling Smith's lamb."\n\n\n\nPrice is ONLY $75 for this years class! Well worth it for the grilling tips and food! Payment is due at time of RSVP by calling (540)434-9967 or coming into 1030 S. High Street and asking for Robert.
X-ALT-DESC;FMTTYPE=text/html:<span style="color:rgb(29\, 33\, 41)\; font-family:helvetica\,arial\,sans-serif\; font-size:14px">Join multi-championship Pitmaster Sterling Smith and take your Grilling and Smoking Skills to Professional Levels. You will learn to make an array of irresistible food on the Green Mountain Pellet Grill. All grill types are welcome and will learn from this class: Wood Pellets\, Gas\, Charcoal\, etc. </span><br />\n<br />\n<span style="color:rgb(29\, 33\, 41)\; font-family:helvetica\,arial\,sans-serif\; font-size:14px">Sterling Smith\, founder and Pitmaster of Loot n&rsquo\; Booty BBQ\, is flying in from Scottsdale Arizona just for this class. Sterling is known internationally as an authority on wood fire cooking\, specializing in all your competition favorites\; Beef\, pork\, chicken as well as lamb. Ch&euml\;f Roba&eacute\;r says &ldquo\;it is worth the price of admission for just one bite of Sterling Smith&rsquo\;s lamb.&rdquo\;<br />\n<br />\nPrice is ONLY $75 for this years class! Well worth it for the grilling tips and food! Payment is due at time of RSVP by calling (540)434-9967 or coming into 1030 S. High Street and asking for Robert.</span>
LOCATION:Class at Rocking R Ace Hardware. Prior RSVP and payment due in advance. Find out more information at: https://www.facebook.com/events/362808491037861/
UID:e.2338.6611
SEQUENCE:3
DTSTAMP:20260419T210712Z
URL:https://chamber.hrchamber.org/events/details/backyard-pitmaster-class-rocking-r-hardware-6611
END:VEVENT

END:VCALENDAR
