BEGIN:VCALENDAR
VERSION:2.0
PRODID:-//ChamberMaster//Event Calendar 2.0//EN
METHOD:PUBLISH
X-PUBLISHED-TTL:P3D
REFRESH-INTERVAL:P3D
CALSCALE:GREGORIAN
BEGIN:VEVENT
DTSTART:20171120T170000Z
DTEND:20171120T200000Z
X-MICROSOFT-CDO-ALLDAYEVENT:FALSE
SUMMARY:Auto Xperts Ribbon Cutting & Grand Opening
DESCRIPTION:You are invited to our Grand Opening celebration!!! There will be door prizes\, sweet treats\, great deals and other giveaways along with the Chamber of Commerce ribbon cutting!! \n\n\n\nWe are excited to announce that we will be having a soft opening on Monday\, November 6th!! Feel free to stop by or call to make an appointment as we will be accepting vehicles to service at that time! \n\n\n\nHowever\, we will be using the next few weeks to iron out any wrinkles before we celebrate our grand opening to ensure Harrisonburg's newest full-service automotive garage is performing at it's best for the community!
X-ALT-DESC;FMTTYPE=text/html:<span style="color: rgb(75\, 79\, 86)\; font-family: Helvetica\, Arial\, sans-serif\; font-size: 14px\; background-color: rgb(255\, 255\, 255)\;">You are invited to our Grand Opening celebration!!! There will be door prizes\, sweet treats\, great deals and other giveaways along with the Chamber of Commerce ribbon cutting!!&nbsp\;</span><br style="color: rgb(75\, 79\, 86)\; font-family: Helvetica\, Arial\, sans-serif\; font-size: 14px\; background-color: rgb(255\, 255\, 255)\;" />\n<br style="color: rgb(75\, 79\, 86)\; font-family: Helvetica\, Arial\, sans-serif\; font-size: 14px\; background-color: rgb(255\, 255\, 255)\;" />\n<span style="color: rgb(75\, 79\, 86)\; font-family: Helvetica\, Arial\, sans-serif\; font-size: 14px\; background-color: rgb(255\, 255\, 255)\;">We are excited to announce that we will be having a soft opening on Monday\, November 6th!! Feel free to stop by or call to make an appointment as we will be accepting vehicles to service at that time!&nbsp\;</span><br style="color: rgb(75\, 79\, 86)\; font-family: Helvetica\, Arial\, sans-serif\; font-size: 14px\; background-color: rgb(255\, 255\, 255)\;" />\n<br style="color: rgb(75\, 79\, 86)\; font-family: Helvetica\, Arial\, sans-serif\; font-size: 14px\; background-color: rgb(255\, 255\, 255)\;" />\n<span style="color: rgb(75\, 79\, 86)\; font-family: Helvetica\, Arial\, sans-serif\; font-size: 14px\; background-color: rgb(255\, 255\, 255)\;">However\, we will be using the next few weeks to iron out any wrinkles before we celebrate our grand opening to ensure Harrisonburg&#39\;s newest full-service automotive garage is performing at it&#39\;s best for the community!</span>
LOCATION:692 East Market Street Harrisonburg. VA
UID:e.2338.3320
SEQUENCE:3
DTSTAMP:20260420T041705Z
URL:https://chamber.hrchamber.org/events/details/auto-xperts-ribbon-cutting-grand-opening-3320
END:VEVENT

END:VCALENDAR
