BEGIN:VCALENDAR
VERSION:2.0
PRODID:-//ChamberMaster//Event Calendar 2.0//EN
METHOD:PUBLISH
X-PUBLISHED-TTL:P3D
REFRESH-INTERVAL:P3D
CALSCALE:GREGORIAN
BEGIN:VEVENT
DTSTART:20180909T230000Z
DTEND:20180910T010000Z
X-MICROSOFT-CDO-ALLDAYEVENT:FALSE
SUMMARY:Auditions for Over the River and Through the Woods
DESCRIPTION:Roles Available\n\n2 men   55+ - Will be playing Italian grandfathers\n\n2 women   55+ - Will be playing Italian grandmothers\n\n1 man   late 20's to early 30's   Modern man looking to break free\n\n1 woman   20's   Sweet girl looking for a boyfriend\n\n\n\nActors should be prepared to do cold readings from the script. Please bring all known conflicts for the month of October to auditions.  \n\nAlso looking for stage crew. If you would like to be involved and learn more about our theatre without appearing on stage\, please come to auditions and we can discuss all the wonderful back-stage opportunities.\n\n\n\nPerformance dates\n\nFriday\, Nov. 2 and Saturday\, Nov. 3 at 7:00 PM and Sunday\, Nov. 4 at 3:00 PM\n\nFriday\, Nov. 9 and Saturday\, Nov. 10 at 7:00 PM and Sunday\, Nov. 11 at 3:00 PM
X-ALT-DESC;FMTTYPE=text/html:Roles Available<br />\n2 men &ndash\; 55+ - Will be playing Italian grandfathers<br />\n2 women &ndash\; 55+ - Will be playing Italian grandmothers<br />\n1 man &ndash\; late 20&rsquo\;s to early 30&rsquo\;s &ndash\; Modern man looking to break free<br />\n1 woman &ndash\; 20&rsquo\;s &ndash\; Sweet girl looking for a boyfriend<br />\n<br />\nActors should be prepared to do cold readings from the script. Please bring all known conflicts for the month of October to auditions.&nbsp\;&nbsp\;<br />\nAlso looking for stage crew. If you would like to be involved and learn more about our theatre without appearing on stage\, please come to auditions and we can discuss all the wonderful back-stage opportunities.<br />\n<br />\nPerformance dates<br />\nFriday\, Nov. 2 and Saturday\, Nov. 3 at 7:00 PM and Sunday\, Nov. 4 at 3:00 PM<br />\nFriday\, Nov. 9 and Saturday\, Nov. 10 at 7:00 PM and Sunday\, Nov. 11 at 3:00 PM
LOCATION:J Frank Hillyard Auditorium 226 Hawks Hill Drive Broadway\, Virginia 22815
UID:e.2338.5947
SEQUENCE:3
DTSTAMP:20260420T104316Z
URL:https://chamber.hrchamber.org/events/details/auditions-for-over-the-river-and-through-the-woods-5947
END:VEVENT

END:VCALENDAR
