BEGIN:VCALENDAR
VERSION:2.0
PRODID:-//ChamberMaster//Event Calendar 2.0//EN
METHOD:PUBLISH
X-PUBLISHED-TTL:P3D
REFRESH-INTERVAL:P3D
CALSCALE:GREGORIAN
BEGIN:VEVENT
DTSTART:20180429T213000Z
DTEND:20180430T000000Z
X-MICROSOFT-CDO-ALLDAYEVENT:FALSE
SUMMARY:AUDITIONS - Flowers for Algernon
DESCRIPTION:Cast Needed: 6 women 6 men 1 male child 1 female child Actors should bring a prepared 2-3 minute monologue and be prepared for cold readings. This is the compelling story of Charlie\, a mentally challenged man\, and the strange interweaving of his life with that of Algernon\, a mouse. Experimental surgery has been performed on Algernon\, increasing his intelligence fourfold. The operation is tried on Charlie\, who rapidly changes into a genius\, far more intelligent than his teacher\, Alice Kinnian\, or the doctors who created the operating technique. As Charlie approaches the peak of his brilliance\, Algernon shows frightening symptoms of regression. The play becomes a race against time in which Charlie tries to keep his new intelligence long enough to save himself and thus continue what he and Alice have found. This is a different kind of play: poignant\, romantic\, funny and tragic\, but with hope of man's indomitable spirit.? Performances are scheduled for July 13-15 and July 20-22?
X-ALT-DESC;FMTTYPE=text/html:Cast Needed: 6 women 6 men 1 male child 1 female child Actors should bring a prepared 2-3 minute monologue and be prepared for cold readings. This is the compelling story of Charlie\, a mentally challenged man\, and the strange interweaving of his life with that of Algernon\, a mouse. Experimental surgery has been performed on Algernon\, increasing his intelligence fourfold. The operation is tried on Charlie\, who rapidly changes into a genius\, far more intelligent than his teacher\, Alice Kinnian\, or the doctors who created the operating technique. As Charlie approaches the peak of his brilliance\, Algernon shows frightening symptoms of regression. The play becomes a race against time in which Charlie tries to keep his new intelligence long enough to save himself and thus continue what he and Alice have found. This is a different kind of play: poignant\, romantic\, funny and tragic\, but with hope of man&#39\;s indomitable spirit.? Performances are scheduled for July 13-15 and July 20-22?
LOCATION:The Schultz Theatre and School of performing Arts J. Frank Hillyard Auditorium 226 Hawks Hill Drive Broadway\, Virginia 22815
UID:e.2338.4774
SEQUENCE:3
DTSTAMP:20260420T113851Z
URL:https://chamber.hrchamber.org/events/details/auditions-flowers-for-algernon-04-29-2018-4774
END:VEVENT

END:VCALENDAR
