BEGIN:VCALENDAR
VERSION:2.0
PRODID:-//ChamberMaster//Event Calendar 2.0//EN
METHOD:PUBLISH
X-PUBLISHED-TTL:P3D
REFRESH-INTERVAL:P3D
CALSCALE:GREGORIAN
BEGIN:VEVENT
DTSTART:20190123T230000Z
DTEND:20190124T003000Z
X-MICROSOFT-CDO-ALLDAYEVENT:FALSE
SUMMARY:Artist Open House Featuring Local Artist Gail Carr
DESCRIPTION:Meet and Greet Professional local artist Gail Carr\n\nWednesday\, January 23rd from 6 pm - 7:30 pm.\n\n\n\nLite refreshments will be served.\n\n\n\nGail Carr's art work will be dispalyed in our office until March 20th.\n\nFeel free to come by during office hours Monday through Friday\n\nfrom 8 am - 5 pm to view her work.
X-ALT-DESC;FMTTYPE=text/html:Meet and Greet Professional local artist Gail Carr<br />\nWednesday\, January 23rd from 6 pm - 7:30 pm.<br />\n<br />\nLite refreshments will be served.<br />\n<br />\nGail Carr&#39\;s art work will be dispalyed in our office until March 20th.<br />\nFeel free to come by during office hours Monday through Friday<br />\nfrom 8 am - 5 pm to view her work.
LOCATION:Appalachian Physical Therapy Harrisonburg 2035 East Market Street\, Suite 45 Harrisonburg\, VA 22801
UID:e.2338.6308
SEQUENCE:3
DTSTAMP:20260420T045010Z
URL:https://chamber.hrchamber.org/events/details/artist-open-house-featuring-local-artist-gail-carr-6308
END:VEVENT

END:VCALENDAR
