BEGIN:VCALENDAR
VERSION:2.0
PRODID:-//ChamberMaster//Event Calendar 2.0//EN
METHOD:PUBLISH
X-PUBLISHED-TTL:P3D
REFRESH-INTERVAL:P3D
CALSCALE:GREGORIAN
BEGIN:VEVENT
DTSTART:20190326T220000Z
DTEND:20190326T233000Z
X-MICROSOFT-CDO-ALLDAYEVENT:FALSE
SUMMARY:Artist Open House Featuring Local Artist Bruce Dellinger
DESCRIPTION:Artist Open House\n\nFeaturing local artist Bruce Dellinger - Mouth Drawing Artist\n\nMeet & Greet will be held at Appalachian Physical Therapy our Harrisonburg location.\n\nTuesday\, March 26 from 6 pm - 7:30 pm\n\n\n\nLite refreshments will be provided.\n\n\n\nBruce's art work will be on display at our office until May 22nd. \n\nPlease feel free to stop by during our office hours Monday - Friday from 8 am - 5:00 pm to view his work.
X-ALT-DESC;FMTTYPE=text/html:Artist Open House<br />\nFeaturing local artist Bruce Dellinger - Mouth Drawing Artist<br />\nMeet &amp\; Greet will be held at Appalachian Physical Therapy our Harrisonburg location.<br />\nTuesday\, March 26 from 6 pm - 7:30 pm<br />\n<br />\nLite refreshments will be provided.<br />\n<br />\nBruce&#39\;s art work will be on display at our office until May 22nd.&nbsp\;<br />\nPlease feel free to stop by during our office hours Monday - Friday from 8 am - 5:00 pm to view his work.
LOCATION:Appalachian Physical Therapy - Harrisonburg Location 2035 E Market St Suite 45 Harrisonburg\, VA 22801 (located between Kohl's & Martin's Super Market)
UID:e.2338.6376
SEQUENCE:3
DTSTAMP:20260420T012944Z
URL:https://chamber.hrchamber.org/events/details/artist-open-house-6376
END:VEVENT

END:VCALENDAR
