BEGIN:VCALENDAR
VERSION:2.0
PRODID:-//ChamberMaster//Event Calendar 2.0//EN
METHOD:PUBLISH
X-PUBLISHED-TTL:P3D
REFRESH-INTERVAL:P3D
CALSCALE:GREGORIAN
BEGIN:VEVENT
DTSTART:20180526T140000Z
DTEND:20180526T200000Z
X-MICROSOFT-CDO-ALLDAYEVENT:FALSE
SUMMARY:Artist Meet and Greet featuring our new exhibits Fly Me to the Moon and the Beyond the Valley
DESCRIPTION:Visit the Virginia Quilt Museum and Meet the Artists who contributed to our second exhibit of the year! See: Fly Me to the Moon curated by Susanne Jones and Beyond the Valley curated by Doreen Johnson.
X-ALT-DESC;FMTTYPE=text/html:<span style="color:rgb(75\, 79\, 86)\; font-family:helvetica\,arial\,sans-serif\; font-size:14px">Visit the Virginia Quilt Museum and Meet the Artists who contributed to our second exhibit of the year! See: Fly Me to the Moon curated by Susanne Jones and Beyond the Valley curated by Doreen Johnson.</span>
LOCATION:Virginia Quilt Museum 301 S. Main St. Harrisonburg VA 22801
UID:e.2338.5835
SEQUENCE:3
DTSTAMP:20260420T131947Z
URL:https://chamber.hrchamber.org/events/details/artist-meet-and-greet-featuring-our-new-exhibits-fly-me-to-the-moon-and-the-beyond-the-valley-5835
END:VEVENT

END:VCALENDAR
