BEGIN:VCALENDAR
VERSION:2.0
PRODID:-//ChamberMaster//Event Calendar 2.0//EN
METHOD:PUBLISH
X-PUBLISHED-TTL:P3D
REFRESH-INTERVAL:P3D
CALSCALE:GREGORIAN
BEGIN:VEVENT
DTSTART:20190927T220000Z
DTEND:20190928T010000Z
X-MICROSOFT-CDO-ALLDAYEVENT:FALSE
SUMMARY:Are You Smarter than a (Redeemer) 5th Grader?
DESCRIPTION:Redeemer Classical School's first annual TRIVIA NIGHT: Are You Smarter than a (Redeemer) 5th Grader? This fun-filled evening checks off all the right boxes:\n\n\n	Entertaining night to spend with friends and/or co-workers\n	Includes drinks and heavy appetizers\n	Exciting competition with great prizes\n	A fundraiser that benefits education in the Valley\n\n\nTeams of six (6) players will compete to answer questions that come directly from Redeemer's K-5 curriculum. Winners will receive some fantastic prizes\, as well as bragging rights.\n\nTickets are on sale now and spaces are limited\, so go ahead and buy a team ticket now using this link. Then find five people who you think are up for the challenge and who know how to have fun.
X-ALT-DESC;FMTTYPE=text/html:<p><span style="background-color:transparent\; color:rgb(0\, 0\, 0)\; font-family:arial\; font-size:11pt">Redeemer Classical School&rsquo\;s first annual </span><strong>TRIVIA NIGHT: <em>Are You Smarter than a (Redeemer) 5th Grader?</em> </strong><span style="background-color:transparent\; color:rgb(0\, 0\, 0)\; font-family:arial\; font-size:11pt">This fun-filled evening checks off all the right boxes:</span></p>\n\n<ul>\n	<li><span style="background-color:transparent\; font-size:11pt">Entertaining night to spend with friends and/or co-workers</span></li>\n	<li><span style="background-color:transparent\; font-size:11pt"><span style="background-color:transparent\; font-size:11pt"><span style="background-color:transparent\; font-size:11pt"><span style="background-color:transparent\; font-size:11pt">Includes drinks and heavy appetizers</span></span></span></span></li>\n	<li><span style="background-color:transparent\; font-size:11pt"><span style="background-color:transparent\; font-size:11pt"><span style="background-color:transparent\; font-size:11pt"><span style="background-color:transparent\; font-size:11pt">Exciting competition with great prizes</span></span></span></span></li>\n	<li><span style="background-color:transparent\; font-size:11pt"><span style="background-color:transparent\; font-size:11pt"><span style="background-color:transparent\; font-size:11pt"><span style="background-color:transparent\; font-size:11pt"><span style="background-color:transparent\; font-size:11pt">A fundraiser that benefits education in the Valley</span></span></span></span></span></li>\n</ul>\n\n<p><span style="background-color:transparent\; color:rgb(0\, 0\, 0)\; font-family:arial\; font-size:11pt">Teams of six (6) players will compete to answer questions that come directly from Redeemer&rsquo\;s K-5 curriculum. Winners will receive some fantastic prizes\, as well as bragging rights.</span></p>\n\n<p><span style="background-color:transparent\; color:rgb(0\, 0\, 0)\; font-family:arial\; font-size:11pt">Tickets are on sale now and spaces are limited\, so go ahead and </span><a href="https://www.redeemerclassical.org/rcs-calendar/2019/9/27/trivia-night" style="color: rgb(17\, 85\, 204)\; text-decoration-line: none\;" target="_blank"><span style="background-color:transparent\; font-family:arial\; font-size:11pt">buy a team ticket now using this link</span></a><span style="background-color:transparent\; color:rgb(0\, 0\, 0)\; font-family:arial\; font-size:11pt">. Then find five people who you think are up for the challenge and who know how to have fun.</span></p>\n
LOCATION:Hotel Madison 710 S. Main Street Harrisonburg\, VA 22801
UID:e.2338.6993
SEQUENCE:3
DTSTAMP:20260419T172750Z
URL:https://chamber.hrchamber.org/events/details/are-you-smarter-than-a-redeemer-5th-grader-6993
END:VEVENT

END:VCALENDAR
