BEGIN:VCALENDAR
VERSION:2.0
PRODID:-//ChamberMaster//Event Calendar 2.0//EN
METHOD:PUBLISH
X-PUBLISHED-TTL:P3D
REFRESH-INTERVAL:P3D
CALSCALE:GREGORIAN
BEGIN:VEVENT
DTSTART:20181013T193000Z
DTEND:20181014T010000Z
X-MICROSOFT-CDO-ALLDAYEVENT:FALSE
SUMMARY:Arctoberfest - Harrisonburg's second annual German Beer & Wine Festival
DESCRIPTION:Eins\, Zwei\, Drei..... Prost!\n\nThis event is family friendly and takes place at the Turner Pavilion. Benefiting The Arc of Harrisonburg and Rockingham\, the festival promises to be a fun-filled day for all. Come enjoy the music\, dancing\, festival games\, food trucks\, vendors\,German car auto show\, and of course a German Beer Garden.
X-ALT-DESC;FMTTYPE=text/html:<p>Eins\, Zwei\, Drei..... Prost!</p>\n\n<p>This event is family friendly and takes place at the Turner Pavilion. Benefiting The Arc of Harrisonburg and Rockingham\, the festival promises to be a fun-filled day for all. Come enjoy the music\, dancing\, festival games\, food trucks\, vendors\,German car auto show\, and of course a German Beer Garden.</p>\n
LOCATION:Turner Pavilion 228 South Liberty Street Harrisonburg\, Virginia 22801
UID:e.2338.5998
SEQUENCE:3
DTSTAMP:20260420T091643Z
URL:https://chamber.hrchamber.org/events/details/arctoberfest-harrisonburg-s-second-annual-german-beer-wine-festival-5998
END:VEVENT

END:VCALENDAR
