BEGIN:VCALENDAR
VERSION:2.0
PRODID:-//ChamberMaster//Event Calendar 2.0//EN
METHOD:PUBLISH
X-PUBLISHED-TTL:P3D
REFRESH-INTERVAL:P3D
CALSCALE:GREGORIAN
BEGIN:VEVENT
DTSTART:20170407T140000Z
DTEND:20170408T010000Z
X-MICROSOFT-CDO-ALLDAYEVENT:FALSE
SUMMARY:Antiques and Firearms Sale at Green Valley Auctions
DESCRIPTION:Large antique\, Firearms and advertising auction featuring the lifetime collection from the Mundy and Gladys Leake estate estate in Charlottesville\, Virginia. Highlights include Seeburg trashcan jukebox\, Vendo Coca-Cola Model 44 Drink Machine\, Vendo Model 39 Coca-Cola drink machine\, lots of advertising signs\, clocks and much much more!\n\nCurrently we have a partial Firearms List available for printing\; we also have firearm photos posted along with a few additional photos. A complete Auction listing & photos will be posted approximately 10 days before sale date. Auction video will be posted approximately 3 days before sale date.
X-ALT-DESC;FMTTYPE=text/html:<p>Large antique\, Firearms and advertising auction featuring the lifetime collection from the Mundy and Gladys Leake estate estate in Charlottesville\, Virginia. Highlights include Seeburg trashcan jukebox\, Vendo Coca-Cola Model 44 Drink Machine\, Vendo Model 39 Coca-Cola drink machine\, lots of advertising signs\, clocks and much much more!</p>\n\n<p><em>Currently we have a partial Firearms List available for printing\; we also have firearm photos posted along with a few additional photos. A complete Auction listing &amp\; photos will be posted approximately 10 days before sale date. Auction video will be posted approximately 3 days before sale date.</em></p>\n
LOCATION:Green Valley Auctions 2259 Green Valley Lane Mt. Crawford\, VA 22841
UID:e.2338.1565
SEQUENCE:3
DTSTAMP:20260421T121316Z
URL:https://chamber.hrchamber.org/events/details/antiques-and-firearms-sale-at-green-valley-auctions-1565
END:VEVENT

END:VCALENDAR
