BEGIN:VCALENDAR
VERSION:2.0
PRODID:-//ChamberMaster//Event Calendar 2.0//EN
METHOD:PUBLISH
X-PUBLISHED-TTL:P3D
REFRESH-INTERVAL:P3D
CALSCALE:GREGORIAN
BEGIN:VEVENT
DTSTART:20171006T140000Z
DTEND:20171007T000000Z
X-MICROSOFT-CDO-ALLDAYEVENT:FALSE
SUMMARY:Antiques and Firearms Estate Auction at Green Valley Auctions
DESCRIPTION:Antiques and Firearms Estate Auction at Green Valley Auctions\n\nFrom the James & Joanne Simpkins home\, Elkton\; The Beam estate\, Bridgewater\; Plus others.\n\n \nFeaturing furniture including lovely Oak\, Walnut Victorian\, etc.\; Firearms and Military including German WWII Luftwaffe M35 double decal parade finish helmet\, DWM 1914 Luger 9mm pistol\, Remington Rand FJA Model 1911 45 caliber pistol\, Ruger and S&W 9mm semi-automatic pistols\, Colt .22 caliber Derringer boxed set\, etc.\; 70 pieces Roseville Pottery\; Elegant Glass\; 280 pieces pewter including limited edition collectibles\; Country items including baskets\, glass and wooden churns\, door stops\, etc.\; Old toys\; Plus so much more! \n\n\n\nSee the entire photo gallery here\, or visit our web page for this auction for a complete listing.\n\n\n\nAuction Preview Thursday\, October 5 from 1:00-4:00 p.m. and Friday\, October 6 at 9:00 a.m.
X-ALT-DESC;FMTTYPE=text/html:<div style="text-align: center\;"><span style="font-size:18px"><span style="font-family:tahoma"><span style="color:#266141"><strong>Antiques and Firearms Estate Auction at Green Valley Auctions</strong><br />\n<span style="font-size:14px">From the James &amp\; Joanne Simpkins home\, Elkton\; The Beam estate\, Bridgewater\; Plus others.<br />\n&nbsp\;</span></span></span></span></div>\n<span style="color:#000000"><span style="font-size:12px"><span style="font-family:tahoma">Featuring furniture including lovely Oak\, Walnut Victorian\, etc.\; Firearms and Military including German WWII Luftwaffe M35 double decal parade finish helmet\, DWM 1914 Luger 9mm pistol\, Remington Rand FJA Model 1911 45 caliber pistol\, Ruger and S&amp\;W 9mm semi-automatic pistols\, Colt .22 caliber Derringer boxed set\, etc.\; 70 pieces Roseville Pottery\; Elegant Glass\; 280 pieces pewter including limited edition collectibles\; Country items including baskets\, glass and wooden churns\, door stops\, etc.\; Old toys\; Plus so much more!&nbsp\;<br />\n<br />\nSee the entire photo gallery <a href="https://www.flickr.com/photos/greenvalleyauctions/albums">here</a>\, or visit our web page for <a href="http://www.greenvalleyauctions.com/venue-events/october-6-2017-estate-auction/">this auction</a> for a complete listing.<br />\n<br />\nAuction Preview Thursday\, October 5 from 1:00-4:00 p.m. and Friday\, October 6 at 9:00 a.m.</span></span></span>
LOCATION:2259 Green Valley Lane\, Mt. Crawford\, VA 22841
UID:e.2338.3264
SEQUENCE:3
DTSTAMP:20260420T024706Z
URL:https://chamber.hrchamber.org/events/details/antiques-and-firearms-estate-auction-at-green-valley-auctions-3264
END:VEVENT

END:VCALENDAR
