BEGIN:VCALENDAR
VERSION:2.0
PRODID:-//ChamberMaster//Event Calendar 2.0//EN
METHOD:PUBLISH
X-PUBLISHED-TTL:P3D
REFRESH-INTERVAL:P3D
CALSCALE:GREGORIAN
BEGIN:VEVENT
DTSTART:20180112T140000Z
DTEND:20180113T010000Z
X-MICROSOFT-CDO-ALLDAYEVENT:FALSE
SUMMARY:Antiques and Firearms Estate Auction at Green Valley Auctions
DESCRIPTION:Large Antiques and Firearms Estate Auction\n \n\nFeaturing firearms from the Leroy Weaver estate\, Stanley\; The James B. Hoover estate\, Harrisonburg\; The Nellie Lessermann estate\, Weyers Cave\; Selections from the Gene Baber estate\, Fishersville\; and The Ken Henkel book collection\; Plus others.\n\n \nVisit our website for a complete listing\, photos\, and gallery preview videos!\n\n\n\nFurniture including two Virginia 12-tin pie safes\, early walnut slant front desk\, blanket chest\, etc.\; Plus more. \n\n \n\nCollection FIREARMS including Rare JOHN ARMSTRONG KENTUCKY LONG RIFLE\, born in 1772 Armstrong worked in Emmitsburg\, MD  (recent discovery in a local home\, passed down through the family)\; fine group of high grade Browning rifles and shotguns\; good Winchester Commemoratives\; pair Colt Model 1961 Pony Express Centennial gold plated revolvers\; other Kentucky long rifle\; Plus more. \n\n \n\nRARE 1935 PAGE COUNTY\, VA. FOLK ART CARVED CANE for Martha Strickler (1899-1980) with unique swiveling verse\; Plus more.\n\n \n\nHISTORICALLY IMPORTANT VIRGINIA CONFEDEARATE SOLDIER LETTERS of SGT. CHARLES W. GAY\, KILLED IN BATTLE JULY 1\, 1862   (Fresh discovery from the Baber Estate\, Fishersville\, Va.) Detailed letters written from Camp Meadow Bluff\, Camp below Richmond\, Camp Buchanan\, Brown's Gap\, Gauley Bridge\, Greenwood Depot\, VMI\, Lewisburg\, Mt. Jackson\, Rockingham County\, Tyree\, White Sulphur Springs\, etc.\; Subjects mentioned Ashby's cannons (near Mt. Jackson)\, battle near Mt. Jackson\, Desperate fight (near Woodstock)\, hope to sweep Yankees from valley\, taking prisoners\, skirmish near Dogwood Gap\, march towards Potomac\, taking prisoners to New Market\, Gen. Lee is still with us\, etc.\;  Letter announcing Mr. Gay's death\, 1860 letters written from Brookland School\, Greenwood Depot\; Plus more.\n\n \n\nOTHER VIRGINIA MANUSCRIPT MATERIAL including 1861 AUGUSTA COUNTY AUCTION BROADSIDE adv. slaves\, 70+ personal letters of Edwin Cushing Family (2nd half 19th c. Staunton\, Winchester\, Waynesboro Letters from Mr. Cushing to his wife Bettie and to her relatives)\, Note: Mr. Cushing was first president Stonewall Brigade Band\; 1910 Broadway & Brocks Gap highway bonds\, 1896 Rockingham County bonds\; 1940'S BOXING AUTOGRAPHED PHOTOS (Leseman estate\, August County) including Jack Dempsey\, Pat Comiskey\, Bobby Ruffin\, Fritzie Zivic\, Jackie Wilson\, Charles "Hobo" Williams\, Mildred Burke (World Champion Woman Wrestler)\; Plus more.\n\n \n\nTOYS including Louis Marx 1930's lithographed wind-up climbing fireman\,  Marx Amos 'n' Andy taxi\, Lehmann "Alabama Coon Jigger" wind-up tin litho figure\, collection cast iron penny banks\, second half of the Wayne Nolde collection of 1950's/1960's matchbox cars like new in box\, 1950's and 60's Tonka and Structo pressed steel toys\, etc.\; Plus more.
X-ALT-DESC;FMTTYPE=text/html:<h1 style="text-align:center"><br />\nLarge Antiques and Firearms Estate Auction</h1>\n&nbsp\;\n\n<div style="text-align:center"><span style="color:rgb(0\, 0\, 0)"><strong>Featuring firearms from the Leroy Weaver estate\, Stanley\; The James B. Hoover estate\, Harrisonburg\; The Nellie Lessermann estate\, Weyers Cave\; Selections from the Gene Baber estate\, Fishersville\; and The Ken Henkel book collection\; Plus others.</strong></span><br />\n&nbsp\;</div>\n<span style="font-family:arial\,helvetica\,sans-serif">Visit <strong><a href="http://www.greenvalleyauctions.com/venue-events/january-05-2018-estate-auction/">our website</a></strong> for a complete listing\, photos\, and gallery preview videos!<br />\n<br />\n<span style="font-size:12.0pt">Furniture including two Virginia 12-tin pie safes\, early walnut slant front desk\, blanket chest\, etc.\; Plus more. </span><br />\n&nbsp\;<br />\n<span style="font-size:12.0pt">Collection <strong>FIREARMS</strong> including <strong>Rare JOHN ARMSTRONG KENTUCKY LONG RIFLE</strong>\, born in 1772 Armstrong worked in Emmitsburg\, MD&nbsp\; (recent discovery in a local home\, passed down through the family)\; fine group of high grade Browning rifles and shotguns\; good Winchester Commemoratives\; pair Colt Model 1961 Pony Express Centennial gold plated revolvers\; other Kentucky long rifle\; Plus more. </span><br />\n&nbsp\;<br />\n<strong><span style="font-size:12.0pt">RARE 1935 PAGE COUNTY\, VA. FOLK ART CARVED CANE</span></strong><span style="font-size:12.0pt"> for Martha Strickler (1899-1980) with unique swiveling verse\; Plus more.</span><br />\n&nbsp\;<br />\n<strong><span style="font-size:12.0pt">HISTORICALLY IMPORTANT VIRGINIA CONFEDEARATE SOLDIER LETTERS of SGT. CHARLES W. GAY\, KILLED IN BATTLE JULY 1\, 1862</span></strong><span style="font-size:12.0pt"> &ndash\; (Fresh discovery from the Baber Estate\, Fishersville\, Va.) Detailed letters written from Camp Meadow Bluff\, Camp below Richmond\, Camp Buchanan\, Brown&rsquo\;s Gap\, Gauley Bridge\, Greenwood Depot\, VMI\, Lewisburg\, Mt. Jackson\, Rockingham County\, Tyree\, White Sulphur Springs\, etc.\; Subjects mentioned Ashby&rsquo\;s cannons (near Mt. Jackson)\, battle near Mt. Jackson\, Desperate fight (near Woodstock)\, hope to sweep Yankees from valley\, taking prisoners\, skirmish near Dogwood Gap\, march towards Potomac\, taking prisoners to New Market\, Gen. Lee is still with us\, etc.\;&nbsp\; Letter announcing Mr. Gay&rsquo\;s death\, 1860 letters written from Brookland School\, Greenwood Depot\; Plus more.</span><br />\n&nbsp\;<br />\n<strong><span style="font-size:12.0pt">OTHER VIRGINIA MANUSCRIPT MATERIAL </span></strong><span style="font-size:12.0pt">including <strong>1861 AUGUSTA COUNTY AUCTION BROADSIDE </strong>adv. slaves\, 70+ personal letters of Edwin Cushing Family (2<sup>nd</sup> half 19<sup>th</sup> c. Staunton\, Winchester\, Waynesboro Letters from Mr. Cushing to his wife Bettie and to her relatives)\, Note: Mr. Cushing was first president Stonewall Brigade Band\; 1910 Broadway &amp\; Brocks Gap highway bonds\, 1896 Rockingham County bonds\; <strong>1940&rsquo\;S BOXING AUTOGRAPHED PHOTOS</strong> (Leseman estate\, August County) including Jack Dempsey\, Pat Comiskey\, Bobby Ruffin\, Fritzie Zivic\, Jackie Wilson\, Charles &ldquo\;Hobo&rdquo\; Williams\, Mildred Burke (World Champion Woman Wrestler)\; Plus more.</span><br />\n&nbsp\;<br />\n<strong><span style="font-size:12.0pt">TOYS</span></strong><span style="font-size:12.0pt"> including Louis Marx 1930&rsquo\;s lithographed wind-up climbing fireman\,&nbsp\; Marx Amos &lsquo\;n&rsquo\; Andy taxi\, Lehmann &ldquo\;Alabama Coon Jigger&rdquo\; wind-up tin litho figure\, collection cast iron penny banks\, second half of the Wayne Nolde collection of 1950&rsquo\;s/1960&rsquo\;s matchbox cars like new in box\, 1950&rsquo\;s and 60&rsquo\;s Tonka and Structo pressed steel toys\, etc.\; Plus more.&nbsp\;&nbsp\;</span></span>
LOCATION:Green Valley Auctions 2259 Green Valley Lane Mt. Crawford\, VA 22841
UID:e.2338.3532
SEQUENCE:3
DTSTAMP:20260420T073102Z
URL:https://chamber.hrchamber.org/events/details/antiques-and-firearms-estate-auction-at-green-valley-auctions-01-05-2018-3532
END:VEVENT

END:VCALENDAR
