BEGIN:VCALENDAR
VERSION:2.0
PRODID:-//ChamberMaster//Event Calendar 2.0//EN
METHOD:PUBLISH
X-PUBLISHED-TTL:P3D
REFRESH-INTERVAL:P3D
CALSCALE:GREGORIAN
BEGIN:VEVENT
DTSTART:20170820T193000Z
DTEND:20170820T220000Z
X-MICROSOFT-CDO-ALLDAYEVENT:FALSE
SUMMARY:Another Summer Night's Dream
DESCRIPTION:This August\, Valley Playhouse presents the premiere of Jay Zehr's latest play\, "Another Summer Night's Dream\," an irreverent science fiction-themed modernization loosely based on the classic Shakespearean comedy "A Midsummer Night's Dream." The show takes place in the Nevada desert outside of Area 51\, where Zorkonitron from Zeta Reticula feuds with his ex-lover Queen Veronica and manipulates the love lives of two star-crossed couples as witless contestants from television's top talent show have their own encounter with the mysterious Coyote Bob.
X-ALT-DESC;FMTTYPE=text/html:This August\, Valley Playhouse presents the premiere of Jay Zehr&#39\;s latest play\, &quot\;Another Summer Night&#39\;s Dream\,&quot\; an irreverent science fiction-themed modernization loosely based on the classic Shakespearean comedy &quot\;A Midsummer Night&#39\;s Dream.&quot\; The show takes place in the Nevada desert outside of Area 51\, where Zorkonitron from Zeta Reticula feuds with his ex-lover Queen Veronica and manipulates the love lives of two star-crossed couples as witless contestants from television&#39\;s top talent show have their own encounter with the mysterious Coyote Bob.
LOCATION:Court Square Theater 41-F Court Square Harrisonburg\, VA 22801
UID:e.2338.3177
SEQUENCE:3
DTSTAMP:20260419T234442Z
URL:https://chamber.hrchamber.org/events/details/another-summer-night-s-dream-08-20-2017-3177
END:VEVENT

END:VCALENDAR
