BEGIN:VCALENDAR
VERSION:2.0
PRODID:-//ChamberMaster//Event Calendar 2.0//EN
METHOD:PUBLISH
X-PUBLISHED-TTL:P3D
REFRESH-INTERVAL:P3D
CALSCALE:GREGORIAN
BEGIN:VEVENT
DTSTART:20170811T233000Z
DTEND:20170812T020000Z
X-MICROSOFT-CDO-ALLDAYEVENT:FALSE
SUMMARY:Another Summer Night's Dream
DESCRIPTION:A very irreverent modernization based on Shakespeare's Midsummer Night's Dream! Written and directed by Jay Zher.
X-ALT-DESC;FMTTYPE=text/html:A very irreverent modernization based on Shakespeare&#39\;s Midsummer Night&#39\;s Dream! Written and directed by Jay Zher.
LOCATION:Court Square Theater 41-F Court Square Harrisonburg\, VA 22801
UID:e.2338.3144
SEQUENCE:3
DTSTAMP:20260419T234442Z
URL:https://chamber.hrchamber.org/events/details/another-summer-night-s-dream-08-11-2017-3144
END:VEVENT

END:VCALENDAR
