BEGIN:VCALENDAR
VERSION:2.0
PRODID:-//ChamberMaster//Event Calendar 2.0//EN
METHOD:PUBLISH
X-PUBLISHED-TTL:P3D
REFRESH-INTERVAL:P3D
CALSCALE:GREGORIAN
BEGIN:VEVENT
DTSTART:20170105T223000Z
DTEND:20170106T013000Z
X-MICROSOFT-CDO-ALLDAYEVENT:FALSE
SUMMARY:Annual Banquet & Awards Ceremony 2017
DESCRIPTION:The Chamber's Annual Banquet & Awards Ceremony is the largest member-only event of the year\, with more than 500 business and community leaders in attendance.\n\n\n\nThe banquet is an opportunity to celebrate our accomplishments and recognize outstanding individuals and organizations in our community.\n\n\n\n*An attendees list will be requested closer to the Annual Banquet.
X-ALT-DESC;FMTTYPE=text/html:The Chamber&#39\;s Annual Banquet &amp\; Awards Ceremony is the largest member-only event of the year\, with more than 500 business and community leaders in attendance.<br />\n<br />\nThe banquet is an opportunity to celebrate our accomplishments and recognize outstanding individuals and organizations in our community.<br />\n<br />\n*An attendees list will be requested closer to the Annual Banquet.
LOCATION:JMU Festival & Conference Center
UID:e.2338.1511
SEQUENCE:3
DTSTAMP:20260419T140534Z
URL:https://chamber.hrchamber.org/events/details/annual-banquet-awards-ceremony-2017-1511
END:VEVENT

END:VCALENDAR
