BEGIN:VCALENDAR
VERSION:2.0
PRODID:-//ChamberMaster//Event Calendar 2.0//EN
METHOD:PUBLISH
X-PUBLISHED-TTL:P3D
REFRESH-INTERVAL:P3D
CALSCALE:GREGORIAN
BEGIN:VEVENT
DTSTART:20200108T223000Z
DTEND:20200109T020000Z
X-MICROSOFT-CDO-ALLDAYEVENT:FALSE
SUMMARY:Annual Banquet and Award Ceremony
DESCRIPTION:SOLD OUT - we are out of tables. \n\nWe still have a few sponsorship available that come with tickets.  \n\n\n\nPARKING -  The Parking Deck on South Mason Street will have free parking on levels 3-5 ONLY!  Please enter the parking deck from the South Mason Street side.  \n\n\n\n Please join us for our Annual Banquet and Award Ceremony as we are honored to recognize our collective achievements of 2019\, set the vision for 2020 and celebrated our business and community leaders.  The evening will start with registration at 5:30 pm.  We will have a cocktail hour The evening will continue with a sit down plated dinner at 7:00 pm along with Award Ceremony.  Please note that we have sold out each and every year...tables are limited.  Each attendee will receive two drink ticket for the bars (then it will a cash bar). \n\n\n\nDinner Selection by 12/20/2019!\n\nMenu\n\n*Thyme & Lemon Roasted Chicken Breast: Lemon White Wine Sauce\, Garlic Mashed Potato\, Haricot Vets with Shallots (gf)\n*Vegetarian Quiche: With Roasted Red Pepper Sauce\, Severed with Caramelized Onion Mash and Honey Glazed Carrots and Brussel (vegetarian)\n\n \n**Please note any dietary restriction when you register.  (Last minute request may not be honored.)\n\n***If no food option is given you will receive the Chicken Option.\n\n****If you do not have all the attendees name or their entree option at the time of registration\, please have them to the Chamber no later than 12/20/2019 (Friday) by 5:00pm. \n\nsara@hrchamber.org or call 540-434-3862.  \n\n\n\nWe still have sponsorship opportunities still available.
X-ALT-DESC;FMTTYPE=text/html:<i><span style="color: rgb(255\, 0\, 0)\; font-size: 14px\;"><b>SOLD OUT - we are out of tables.&nbsp\;<br />\nWe still have a few sponsorship </b></span><font color="#ff0000"><span style="font-size: 14px\;"><b>available</b></span></font><span style="color: rgb(255\, 0\, 0)\; font-size: 14px\;"><b>&nbsp\;that come with tickets.&nbsp\;&nbsp\;<br />\n<br />\nPARKING -&nbsp\; The Parking Deck on South Mason Street will have free parking on levels 3-5 ONLY!&nbsp\; Please enter the parking deck from the South Mason Street side.&nbsp\;&nbsp\;</b></span><br />\n<br />\n&nbsp\;</i>Please join us for our Annual Banquet and Award Ceremony as we are honored to recognize our collective achievements of 2019\, set the vision for 2020 and celebrated our business and community leaders.&nbsp\; The evening will start with registration at 5:30 pm.&nbsp\; We will have a cocktail hour The evening will continue with a sit down plated dinner at 7:00 pm along with Award Ceremony.&nbsp\; Please note that we have sold out each and every year...tables are limited.&nbsp\; Each attendee will receive two drink ticket for the bars (then it will a cash bar).&nbsp\;<br />\n<br />\n<span style="color:#FF0000\;"><strong>Dinner Selection by 12/20/2019!</strong></span><br />\n<strong><u>Menu</u></strong><br />\n*Thyme &amp\; Lemon Roasted Chicken Breast: Lemon White Wine Sauce\, Garlic Mashed Potato\, Haricot Vets with Shallots <em>(gf)</em>\n<div style="margin-left:0in\;">*Vegetarian Quiche: With Roasted Red Pepper Sauce\, Severed with Caramelized Onion Mash and Honey Glazed Carrots and Brussel <em>(vegetarian)</em><br />\n&nbsp\;</div>\n**Please note any dietary restriction when you register.&nbsp\; (Last minute request may not be honored.)<br />\n<strong><span style="color:#FF0000\;">***If no food option is given you will receive the Chicken Option.</span></strong><br />\n****<span style="color: rgb(0\, 0\, 205)\; font-family: Roboto\, sans-serif\; font-size: 14px\;">If you do not have all the attendees&nbsp\;name or their entree option at the time of registration\, please have them to the Chamber no later than 12/20/2019 (Friday) by 5:00pm.&nbsp\;</span><br />\n<a href="mailto:sara@hrchamber.org?subject=Annual%20Banquet%20Entree%20Options" style="box-sizing: border-box\; background-image: initial\; background-position: initial\; background-size: initial\; background-repeat: initial\; background-attachment: initial\; background-origin: initial\; background-clip: initial\; color: rgb(100\, 50\, 130)\; text-decoration-line: none\; font-family: Roboto\, sans-serif\; font-size: 14px\;">sara@hrchamber.org</a><span style="color: rgb(0\, 0\, 205)\; font-family: Roboto\, sans-serif\; font-size: 14px\;">&nbsp\;or call 540-434-3862.&nbsp\;&nbsp\;</span><br />\n<br />\n<a href="https://www.hrchamber.org/wp-content/uploads/2019/11/Annual-Banquet-Sponsorship-2019.pdf"><strong><span style="color:#0000FF\;"><span style="font-size:20px\;">We still have sponsorship opportunities still available.&nbsp\;&nbsp\;</span></span></strong></a>
LOCATION:Parking: Levels 3-5 on the South Mason Street (Parking Deck) MAP Hotel Madison and Shenandoah Conference Center 710 South Main Street Harrisonburg\, VA 22801 (Map)
UID:e.2338.7061
SEQUENCE:3
DTSTAMP:20260419T122321Z
URL:https://chamber.hrchamber.org/events/details/annual-banquet-and-award-ceremony-7061
END:VEVENT

END:VCALENDAR
