BEGIN:VCALENDAR
VERSION:2.0
PRODID:-//ChamberMaster//Event Calendar 2.0//EN
METHOD:PUBLISH
X-PUBLISHED-TTL:P3D
REFRESH-INTERVAL:P3D
CALSCALE:GREGORIAN
BEGIN:VEVENT
DTSTART:20190103T223000Z
DTEND:20190104T020000Z
X-MICROSOFT-CDO-ALLDAYEVENT:FALSE
SUMMARY:Annual Banquet and Award Ceremony 2019
DESCRIPTION:Registration Deadline is December 28\, 2018. (This event sells out every year!)\n\n\n\nJoin us for our Annual Banquet and Award Ceremony as we recognize our collective achievements in 2018\, set the vision for 2019 and celebrate our business and community leaders.  The evening will start at 5:30 p.m. with causal networking. We have returned to the traditional sit down dinner starting at 7:00 p.m.. This year there are three level of tables: Platinum Tables $700 - SOLD OUT!\, Gold Tables $600 (8 person table) towards the middle of the ballroom\, Silver Tables $500 (8 person table) towards the rear of the ballroom.  There is a limited number of the Platinum and Gold Tables\, so get them early! \n\nIndividual Tickets will be $75 per person. \n\n*Each ticket will include one plated dinner along with two drink tickets.  (Cash Bars) \n\n\n\nThis year's dinner options are:\n\n1. Grilled Breast of Chicken with cream herb risotto\, grilled asparagus and maple butter sauce\n\n2. Oven Poached Salmon with cream herb risotto\, grilled asparagus and maple butter sauce\n\n3. Open Faced Ravioli: foraged local mushrooms\, arugula & pine nut pesto (Vegan Option)\n\nThere will be a follow up email once you have registered for this event to make your dinner choice.\n\n\n\nSponsorship Opportunities:   (reach out to sara@hrchamber.org or call 540-434-3862x 108)\n\n\n\nPlatinum Event Sponsor   SOLD   Special Thanks to Shenandoah Valley Regional Airport & United (Operated by SkyWest)\n\n\nVideo Sponsor   SOLD   Appeal Productions\n Award Winner Table Host Sponsors   $750 -5 2 Available \n\n  Two event tickets\n\n  Table card acknowledging sponsorship to guests\n\n  Sponsorship acknowledgement at the event from stage and on posters\n\n  Acknowledgement on social media and website leading up to event\n\nSpecial Thanks to Harman Construction Inc.\, Farm Credit\, Perry Engineering\n\n\n\nAudio and Visual Sponsor  $1000 - 2  SOLD\n\n  2 Event Ticket\n\n  Company Logo included on all collateral electronic and print material\n\n  Logo on the sponsorship slide of slideshow running during reception \n\n  Sponsorship acknowledgement at the event from stage and on posters\n\n  Acknowledgement on social media and website leading up to event\n\nSpecial Thanks to Dynamic Aviation\, Blue Ridge Bank\n\n \n\n Beverage Sponsor   $500 - - SOLD\n\n  Two event tickets\n\n  Table card at beverage station acknowledging sponsorship to guests\n\n  Sponsorship acknowledgement at the event from stage and on posters\n\n  Acknowledgement on social media and website leading up to event\n\n Special Thanks to Bluestone Vineyard\, CrossKeys Vineyard\, Capital Ale House\, MillerCoors\n\n \n\nDessert Sponsors   $750 - SOLD\n\n  Two event tickets\n\n  Table card at the dessert acknowledging sponsorship to guests\n\n  Sponsorship acknowledgement at the event from stage and on posters\n\n  Acknowledgement on social media and website leading up to event\n\nSpecial Thanks to Burkholder & Associates\, Lantz Contruction Company \n\n \n\nAnnual Report Sponsor   $500 - SOLD\n\n   Two event tickets\n\n   Company logo included on the printed and electronic  version placed on Chamber website\n\n   To be used for membership recruitment and retention throughout 2018\n\n   Sponsorship acknowledgement at the event from stage and on posters\n\n   Acknowledgement on social media and website leading up to event\n\nSpecial Thanks to McClung Companies\, First Bank & Trust Company\, Pioneer Bank\, The Reserve at Stone Port\n\n \n\nProgram Sponsor   $300 - SOLD\n\n  1 Event Ticket\n\n  Logo on Event Programs and displayed on event tables\n\n  Sponsorship acknowledgement at the event from stage and on posters\n\n  Acknowledgement on social media and website leading up to event\n\nSpecial Thanks to JS Replogle & Associates\, DuPont Community Credi Union\n\n \n\nLong-Time Member Acknowledgement Sponsor $300 - SOLD\n\n  1 Event Ticket\n\n  Logo on Event Programs to be displayed on event tables\n\n  Sponsorship acknowledgement at the event from stage and on posters\n\n  Acknowledgement on social media and website leading up to event\n\n Special Thanks to VA Poultry Federation\, Blue Ridge Community College\n\n \n\nPhotographer SOLD\n\n  1 Event Ticket\n\n  Watermarked photo album shared on HRCC Facebook Page\n\n  Ability to sell photographs from event\n\n  Photo credit when Chamber uses photography in future publications\n\n  Sponsorship acknowledgement at the event from stage and on posters\n\n  Acknowledgement on social media and website leading up to event\n\n Special Thanks to Josh Gooden
X-ALT-DESC;FMTTYPE=text/html:<br />\n<span style="font-size:18px\;"><span style="color:#FF0000\;"><strong>Registration Deadline is December 28\, 2018</strong></span><span style="color:#00FFFF\;">.</span><span style="font-size:14px\;"><span style="color:#0000FF\;"> (This event sells out every year!)</span></span></span><br />\n<br />\nJoin us for our Annual Banquet and Award Ceremony as we recognize our collective achievements in 2018\, set the vision for 2019 and celebrate our business and community leaders.&nbsp\; The evening will start at 5:30 p.m. with causal networking. We have returned to the traditional sit down dinner starting at 7:00 p.m.. This year there are three level of tables:<span style="color:#0000FF\;"> </span><span style="color:#FF0000\;"><strong>Platinum Tables $700 -</strong>&nbsp\;<span style="font-size:14px\;"><strong>SOLD OUT!</strong></span>\,</span> <span style="color:#0000FF\;"><strong>Gold Tables $600</strong></span> (8 person table) towards the middle of the ballroom\, <span style="color:#0000FF\;"><strong>Silver Tables $500&nbsp\;</strong></span>(8 person table) towards the rear of the ballroom.&nbsp\; There is a limited number of the Platinum and Gold Tables\, so get them early!&nbsp\;<br />\n<strong>Individual Tickets will be $75 per person.&nbsp\;</strong><br />\n<strong>*Each ticket will include one plated dinner along with two drink tickets.</strong>&nbsp\; (Cash Bars)&nbsp\;<br />\n<br />\n<font color="#0000ff">This year&#39\;s dinner options are:<br />\n1. Grilled Breast of Chicken&nbsp\;</font><span style="color: rgb(0\, 0\, 255)\;">with cream herb risotto\, grilled asparagus and maple butter sauce</span><br />\n<font color="#0000ff">2. Oven Poached Salmon with cream herb risotto\, grilled asparagus and maple butter sauce<br />\n3. Open Faced Ravioli: foraged local mushrooms\, arugula &amp\; pine nut pesto (Vegan Option)<br />\n<strong>There will be a follow up email once you have registered for this event to make your dinner choice.</strong></font><br />\n<br />\n<span style="font-size:18px\;"><strong>Sponsorship Opportunities:&nbsp\;<span style="font-size:12px\;">&#8203\;&#8203\;(reach out to<a href="mailto:sara@hrchamber.org?subject=Annual%20Banquet"> sara@hrchamber.org</a> or call 540-434-3862x 108)</span></strong></span><br />\n<br />\n<span style="color:#0000FF\;"><span style="font-size:16px\;"><strong>Platinum Event Sponsor &ndash\; SOLD &ndash\; Special Thanks to Shenandoah Valley Regional Airport &amp\; United (Operated by SkyWest)</strong></span></span>\n<p style="margin: 0px 0px 10.66px\;"><br />\n<span style="color:#0000FF\;"><span style="font-size:16px\;"><strong>Video Sponsor &ndash\; SOLD &ndash\; Appeal Productions</strong></span></span></p>\n<span style="font-size:12px\;">&nbsp\;<strong>Award Winner Table Host Sponsors &bull\; $750 -</strong><s><font face="Calibri">5</font></s><span style="color:#FF0000\;">&nbsp\;2 Available<strong>&nbsp\;</strong></span><br />\n&bull\; Two event tickets<br />\n&bull\; Table card acknowledging sponsorship to guests<br />\n&bull\; Sponsorship acknowledgement at the event from stage and on posters<br />\n&bull\; Acknowledgement on social media and website leading up to event<br />\n<span style="color: rgb(178\, 34\, 34)\;"><strong>Special Thanks to Harman Construction Inc.\, Farm Credit\, Perry Engineering</strong></span><br />\n<br />\n<strong>Audio and Visual Sponsor&bull\; $1000 - </strong><s>2</s>&nbsp\;<span style="color:#B22222\;"><strong>&nbsp\;SOLD</strong></span><br />\n&bull\; 2 Event Ticket<br />\n&bull\; Company Logo included on all collateral electronic and print material<br />\n&bull\; Logo on the sponsorship slide of slideshow running during reception&nbsp\;<br />\n&bull\; Sponsorship acknowledgement at the event from stage and on posters<br />\n&bull\; Acknowledgement on social media and website leading up to event<br />\n<span style="color:#B22222\;"><strong>Special Thanks to Dynamic Aviation\, Blue Ridge Bank</strong></span><br />\n&nbsp\;<br />\n&nbsp\;<strong>Beverage Sponsor &bull\; $500 - </strong><strong style="font-size: 14px\;">-</strong><strong style="font-size: 14px\;">&nbsp\;<span style="color: rgb(178\, 34\, 34)\;">SOLD</span></strong><br />\n&bull\; Two event tickets<br />\n&bull\; Table card at beverage station acknowledging sponsorship to guests<br />\n&bull\; Sponsorship acknowledgement at the event from stage and on posters<br />\n&bull\; Acknowledgement on social media and website leading up to event<br />\n<span style="color:#B22222\;"><strong>&nbsp\;Special Thanks to Bluestone Vineyard\, CrossKeys Vineyard\, Capital Ale House\, MillerCoors</strong></span><br />\n&nbsp\;<br />\n<strong>Dessert Sponsors &bull\; $750 - <span style="color:#B22222\;">SOLD</span></strong><br />\n&bull\; Two event tickets<br />\n&bull\; Table card at the dessert acknowledging sponsorship to guests<br />\n&bull\; Sponsorship acknowledgement at the event from stage and on posters<br />\n&bull\; Acknowledgement on social media and website leading up to event<br />\n<strong><span style="color:#B22222\;">Special Thanks to Burkholder &amp\; Associates\, Lantz Contruction Company</span>&nbsp\;</strong><br />\n&nbsp\;<br />\n<strong>Annual Report Sponsor &bull\; $500 - </strong><strong style="color: rgb(51\, 51\, 51)\; font-family: sans-serif\, Arial\, Verdana\, &quot\;Trebuchet MS&quot\;\; font-size: 14px\; background-color: rgb(255\, 255\, 255)\;"><span style="color: rgb(178\, 34\, 34)\;">SOLD</span></strong><br />\n&bull\;&nbsp\; Two event tickets<br />\n&bull\;&nbsp\; Company logo included on the printed and electronic &nbsp\;version placed on Chamber website<br />\n&bull\;&nbsp\; To be used for membership recruitment and retention throughout 2018<br />\n&bull\;&nbsp\; Sponsorship acknowledgement at the event from stage and on posters<br />\n<span style="color:#B22222\;">&bull\;&nbsp\; Acknowledgement on social media and website leading up to event<br />\n<strong>Special Thanks to McClung Companies\, First Bank &amp\; Trust Company\, Pioneer Bank\, The Reserve at Stone Port</strong></span><br />\n&nbsp\;<br />\n<strong>Program Sponsor &bull\; $300 -&nbsp\;</strong><strong style="font-size: 14px\;"><span style="color: rgb(178\, 34\, 34)\;">SOLD</span></strong><br />\n&bull\; 1 Event Ticket<br />\n&bull\; Logo on Event Programs and displayed on event tables<br />\n&bull\; Sponsorship acknowledgement at the event from stage and on posters<br />\n&bull\; Acknowledgement on social media and website leading up to event<br />\n<span style="color:#B22222\;"><strong>Special Thanks to JS Replogle &amp\; Associates\, DuPont Community Credi Union</strong></span><br />\n&nbsp\;<br />\n<strong>Long-Time Member Acknowledgement Sponsor $300 -</strong> <strong style="font-size: 14px\;"><span style="color: rgb(178\, 34\, 34)\;">SOLD</span></strong><br />\n&bull\; 1 Event Ticket<br />\n&bull\; Logo on Event Programs to be displayed on event tables<br />\n&bull\; Sponsorship acknowledgement at the event from stage and on posters<br />\n&bull\; Acknowledgement on social media and website leading up to event<br />\n<span style="color:#B22222\;">&nbsp\;<strong>Special Thanks to VA Poultry Federation\, Blue Ridge Community College</strong></span><br />\n&nbsp\;<br />\n<strong>Photographer<span style="color:#B22222\;"> SOLD</span></strong><br />\n&bull\; 1 Event Ticket<br />\n&bull\; Watermarked photo album shared on HRCC Facebook Page<br />\n&bull\; Ability to sell photographs from event<br />\n&bull\; Photo credit when Chamber uses photography in future publications<br />\n&bull\; Sponsorship acknowledgement at the event from stage and on posters<br />\n&bull\; Acknowledgement on social media and website leading up to event<br />\n<span style="color:#B22222\;"><strong>&nbsp\;Special Thanks to Josh Gooden</strong></span></span><br />\n&nbsp\;
LOCATION:Hotel Madison and Shenandoah Conference Center 710 South Main Street Harrisonburg\, VA 22801
UID:e.2338.6090
SEQUENCE:3
DTSTAMP:20260420T044832Z
URL:https://chamber.hrchamber.org/events/details/annual-banquet-and-award-ceremony-2019-6090
END:VEVENT

END:VCALENDAR
