BEGIN:VCALENDAR
VERSION:2.0
PRODID:-//ChamberMaster//Event Calendar 2.0//EN
METHOD:PUBLISH
X-PUBLISHED-TTL:P3D
REFRESH-INTERVAL:P3D
CALSCALE:GREGORIAN
BEGIN:VEVENT
DTSTART:20180603T170000Z
DTEND:20180603T200000Z
X-MICROSOFT-CDO-ALLDAYEVENT:FALSE
SUMMARY:Anicira's Walk for the Animals
DESCRIPTION:Bring your pup for a fun day to benefit area animals! We'll start with an optional 1 mile stroll through the vineyards\, followed by games\, vendors\, contests\, food\, and more. All to benefit Anicira's lifesaving programs!
X-ALT-DESC;FMTTYPE=text/html:Bring your pup for a fun day to benefit area animals! We&#39\;ll start with an optional 1 mile stroll through the vineyards\, followed by games\, vendors\, contests\, food\, and more. All to benefit Anicira&#39\;s lifesaving programs!
LOCATION:Bluestone Vineyard 4828 Spring Creek Rd\, Bridgewater\, VA 22812
UID:e.2338.5790
SEQUENCE:3
DTSTAMP:20260420T151112Z
URL:https://chamber.hrchamber.org/events/details/anicira-s-walk-for-the-animals-5790
END:VEVENT

END:VCALENDAR
