BEGIN:VCALENDAR
VERSION:2.0
PRODID:-//ChamberMaster//Event Calendar 2.0//EN
METHOD:PUBLISH
X-PUBLISHED-TTL:P3D
REFRESH-INTERVAL:P3D
CALSCALE:GREGORIAN
BEGIN:VEVENT
DTSTART:20171102T160000Z
DTEND:20171102T170000Z
X-MICROSOFT-CDO-ALLDAYEVENT:FALSE
SUMMARY:Ambassdors
DESCRIPTION:
X-ALT-DESC;FMTTYPE=text/html:
LOCATION:Harrisonburg-Rockingham Chamber of Commerce Office - 800 Country Club Road\, Harrisonburg\, VA 22802
UID:e.2338.2879
SEQUENCE:3
DTSTAMP:20260420T041453Z
URL:https://chamber.hrchamber.org/events/details/ambassdors-11-02-2017-2879
END:VEVENT

END:VCALENDAR
