BEGIN:VCALENDAR
VERSION:2.0
PRODID:-//ChamberMaster//Event Calendar 2.0//EN
METHOD:PUBLISH
X-PUBLISHED-TTL:P3D
REFRESH-INTERVAL:P3D
CALSCALE:GREGORIAN
BEGIN:VEVENT
DTSTART:20190807T160000Z
DTEND:20190807T170000Z
X-MICROSOFT-CDO-ALLDAYEVENT:FALSE
SUMMARY:Ambassdors
DESCRIPTION:
X-ALT-DESC;FMTTYPE=text/html:
LOCATION:Harrisonburg-Rockingham Chamber of Commerce Office - 800 Country Club Road\, Harrisonburg\, VA 22802
UID:e.2338.2900
SEQUENCE:3
DTSTAMP:20260419T183400Z
URL:https://chamber.hrchamber.org/events/details/ambassdors-08-01-2019-2900
END:VEVENT

END:VCALENDAR
