BEGIN:VCALENDAR
VERSION:2.0
PRODID:-//ChamberMaster//Event Calendar 2.0//EN
METHOD:PUBLISH
X-PUBLISHED-TTL:P3D
REFRESH-INTERVAL:P3D
CALSCALE:GREGORIAN
BEGIN:VEVENT
DTSTART:20180111T170000Z
DTEND:20180111T180000Z
X-MICROSOFT-CDO-ALLDAYEVENT:FALSE
SUMMARY:Ambassdors
DESCRIPTION:
X-ALT-DESC;FMTTYPE=text/html:
LOCATION:Harrisonburg-Rockingham Chamber of Commerce Office - 800 Country Club Road\, Harrisonburg\, VA 22802
UID:e.2338.2881
SEQUENCE:3
DTSTAMP:20260420T072622Z
URL:https://chamber.hrchamber.org/events/details/ambassdors-01-04-2018-2881
END:VEVENT

END:VCALENDAR
