BEGIN:VCALENDAR
VERSION:2.0
PRODID:-//ChamberMaster//Event Calendar 2.0//EN
METHOD:PUBLISH
X-PUBLISHED-TTL:P3D
REFRESH-INTERVAL:P3D
CALSCALE:GREGORIAN
BEGIN:VEVENT
DTSTART:20170901T200000Z
DTEND:20170901T220000Z
X-MICROSOFT-CDO-ALLDAYEVENT:FALSE
SUMMARY:Alzheimer's Walk to End Alzheimer's New Team Kickoff
DESCRIPTION:Stop by the Capital Ale House this Friday\, Sept. 1st to register your walk team\, or just learn more about the fight against Alzheimer's and enjoy your free appetizer.
X-ALT-DESC;FMTTYPE=text/html:Stop by the Capital Ale House this Friday\, Sept. 1st to register your walk team\, or just learn more about the fight against Alzheimer&#39\;s and enjoy your free appetizer.
LOCATION:Capital Ale House 41 Court Square Harrisonburg
UID:e.2338.3230
SEQUENCE:3
DTSTAMP:20260420T024641Z
URL:https://chamber.hrchamber.org/events/details/alzheimer-s-walk-to-end-alzheimer-s-new-team-kickoff-3230
END:VEVENT

END:VCALENDAR
