BEGIN:VCALENDAR
VERSION:2.0
PRODID:-//ChamberMaster//Event Calendar 2.0//EN
METHOD:PUBLISH
X-PUBLISHED-TTL:P3D
REFRESH-INTERVAL:P3D
CALSCALE:GREGORIAN
BEGIN:VEVENT
DTSTART:20180126T223000Z
DTEND:20180129T010000Z
X-MICROSOFT-CDO-ALLDAYEVENT:FALSE
SUMMARY:Alzheimer's Association Fundraiser at Crack the Code Escape Room
DESCRIPTION:Please join us at Crack The Code Escape Room on January 26th\, 27th or 28th to help celebrate our One year Anniversary. 50% of the proceeds from that weekends ticket sales will go to Walk to End Alzheimer's - Greater Augusta. Please help spread the word and join us to exercise your brain and donate! #crackthecodeescaperoom
X-ALT-DESC;FMTTYPE=text/html:Please join us at Crack The Code Escape Room on January 26th\, 27th or 28th to help celebrate our One year Anniversary. 50% of the proceeds from that weekends ticket sales will go to Walk to End Alzheimer&#39\;s - Greater Augusta. Please help spread the word and join us to exercise your brain and donate! #crackthecodeescaperoom
LOCATION:9 Lawyers Row Staunton\, Virginia 24401
UID:e.2338.3593
SEQUENCE:3
DTSTAMP:20260420T072856Z
URL:https://chamber.hrchamber.org/events/details/alzheimer-s-association-fundraiser-at-crack-the-code-escape-room-3593
END:VEVENT

END:VCALENDAR
