BEGIN:VCALENDAR
VERSION:2.0
PRODID:-//ChamberMaster//Event Calendar 2.0//EN
METHOD:PUBLISH
X-PUBLISHED-TTL:P3D
REFRESH-INTERVAL:P3D
CALSCALE:GREGORIAN
BEGIN:VEVENT
DTSTART:20190720T140000Z
DTEND:20190720T180000Z
X-MICROSOFT-CDO-ALLDAYEVENT:FALSE
SUMMARY:Agriculture Safety Day
DESCRIPTION:Did you know that agriculture and farming is listed as one of the most dangerous occupations by the National Institute for Occupational Safety and Health?  The program will feature workshops on load securement\, ATV safety\, personal safety\, and livestock and cattle handling safety.  A mobile dairy classroom\, courtesy of Southland Dairy Farmers will also be onsite for K-12 youth and adults to experience.  To help identify and reduce some of these risks please consider joining us for our upcoming Augusta County Ag Safety Day to be held Saturday\, July 20th\, 2019 at the Augusta County Farm Bureau Office in Verona from 10 am to 2 pm.  For questions about the event please email John Benner at benner89@vt.edu.  The program will feature workshops on load securement\, ATV safety\, personal safety\, and livestock and cattle handling safety.  A mobile dairy classroom\, courtesy of Southland Dairy Farmers will also be onsite for K-12 youth and adults to experience.  Lunch will be available for participants from 12 to 1 pm.  The event is free and open to everyone! \n\nTo register please call the Augusta County Farm Bureau office at 540-886-2353 by Friday July 19.   Please join us for this program as we put emphasis on safety in agriculture!
X-ALT-DESC;FMTTYPE=text/html:<span style="font-family:times new roman\,serif\;"><span style="font-size:12.0pt\;">Did you know that agriculture and farming is listed as one of the most dangerous occupations by the National Institute for Occupational Safety and Health?&nbsp\; <span style="color:black\;">The program will feature workshops on load securement\, ATV safety\, personal safety\, and livestock and cattle handling safety.&nbsp\; A mobile dairy classroom\, courtesy of Southland Dairy Farmers will also be onsite for K-12 youth and adults to experience.&nbsp\; To help identify and reduce some of these risks please consider joining us for our upcoming <strong><em>Augusta County Ag Safety Day to be held Saturday\, July 20th\, 2019 at the Augusta County Farm Bureau Office in Verona from 10 am to 2 pm</em></strong>.&nbsp\; For questions about the event please email John Benner at </span></span></span><a href="mailto:benner89@vt.edu"><span style="font-family:times new roman\,serif\;"><span style="font-size:12.0pt\;">benner89@vt.edu</span></span></a><span style="color:black\;"><span style="font-family:times new roman\,serif\;"><span style="font-size:12.0pt\;">.&nbsp\; The program will feature workshops on load securement\, ATV safety\, personal safety\, and livestock and cattle handling safety.&nbsp\; A mobile dairy classroom\, courtesy of Southland Dairy Farmers will also be onsite for K-12 youth and adults to experience.&nbsp\; Lunch will be available for participants from 12 to 1 pm.&nbsp\; The event is free and open to everyone!&nbsp\;</span></span></span><br />\n<span style="color:#FF0000\;"><span style="font-family:times new roman\,serif\;"><span style="font-size:12.0pt\;"><strong>To register please call the Augusta County Farm Bureau office at 540-886-2353 by Friday July 19</strong></span></span></span><span style="color:black\;"><span style="font-family:times new roman\,serif\;"><span style="font-size:12.0pt\;">.&nbsp\;&nbsp\; Please join us for this program as we put emphasis on safety in agriculture!</span></span></span>
LOCATION:Augusta County Farm Bureau Office in Verona
UID:e.2338.6859
SEQUENCE:3
DTSTAMP:20260419T195215Z
URL:https://chamber.hrchamber.org/events/details/agriculture-safety-day-6859
END:VEVENT

END:VCALENDAR
