BEGIN:VCALENDAR
VERSION:2.0
PRODID:-//ChamberMaster//Event Calendar 2.0//EN
METHOD:PUBLISH
X-PUBLISHED-TTL:P3D
REFRESH-INTERVAL:P3D
CALSCALE:GREGORIAN
BEGIN:VEVENT
DTSTART:20181221T140000Z
DTEND:20181221T153000Z
X-MICROSOFT-CDO-ALLDAYEVENT:FALSE
SUMMARY:Aging In Place Business Council
DESCRIPTION:The Centers for Disease Control and Prevention defines aging in place as "the ability to live in one's own home and community safely\, independently\, and comfortably\, regardless of age\, income\, or ability level." The core purpose of the Round Table is to find solutions for aging in place\, by connecting families with qualified and trustworthy professionals.\n\n\n\nMISSION STATEMENT\n\nThe Aging in Place Round Table seeks to educate the community about local services supporting vitality and choice in the second half of life\, and provides a forum for discussion and collaboration about the issues surrounding aging in place.\n\n\n\nBECOMING A MEMBER OF THE ROUND TABLE\n\n  Be a member in good-standing with the Harrisonburg-Rockingham Chamber of Commerce\, and abide by its code of conduct\n\n  Attend at least three meetings within six months\n\n  Make a brief member spotlight presentation about your business or professional services\n\n  To maintain membership\, attend at least one monthly meeting every six months\n\n\n\nNEW in 2019 The Aging in Place Roundtable will be meeting in the Community Room at Rockingham County Offices ( 20 E Gay Street\, Harrisonburg) Use Entrance C.
X-ALT-DESC;FMTTYPE=text/html:<span style="font-size:12px\;"><span style="font-family:tahoma\;">The <span style="color: rgb(34\, 34\, 34)\;">Centers for Disease Control and Prevention</span>&nbsp\;defines aging in place as &ldquo\;the ability to live in one&rsquo\;s own home and community safely\, independently\, and comfortably\, regardless of age\, income\, or ability level.&rdquo\; The core purpose of the Round Table is to find solutions for aging in place\, by connecting families with qualified and trustworthy professionals.<br />\n<br />\n<u><strong>MISSION STATEMENT</strong></u><br />\nThe Aging in Place Round Table seeks to educate the community about local services supporting vitality and choice in the second half of life\, and provides a forum for discussion and collaboration about the issues surrounding aging in place.<br />\n<br />\n<u><strong>BECOMING A MEMBER OF&nbsp\;THE </strong></u></span></span><u><strong><span style="font-size:12px\;"><span style="font-family:tahoma\;"><span>ROUND TABLE</span></span></span></strong></u><br />\n<span style="font-size:12px\;"><span style="font-family:tahoma\;">&bull\; Be a member in&nbsp\;</span></span><span style="font-family:verdana\;"><span style="font-size:12px\;"><span style="font-family:tahoma\;">good-standing</span></span></span><span style="font-size:12px\;"><span style="font-family:tahoma\;"> with the Harrisonburg-Rockingham Chamber of Commerce\, and abide by its code of conduct<br />\n&bull\; Attend at least three meetings within six months<br />\n&bull\; Make a brief member spotlight presentation about your business or professional services<br />\n&bull\; To maintain membership\, attend at least one monthly meeting every six months</span></span><br />\n<br />\n<span style="font-family: Roboto\, sans-serif\;">NEW in 2019 The Aging in Place Roundtable will be meeting in the Community Room at Rockingham County Offices ( 20 E Gay Street\, Harrisonburg) Use Entrance C.&nbsp\;&nbsp\;</span><br />\n&nbsp\;
LOCATION:Bridgewater Retirement Community - The Houff Community Center 302 N 2nd Street Bridgewater\, VA
UID:e.2338.1751
SEQUENCE:3
DTSTAMP:20260420T062317Z
URL:https://chamber.hrchamber.org/events/details/aging-in-place-business-council-12-21-2018-1751
END:VEVENT

END:VCALENDAR
