BEGIN:VCALENDAR
VERSION:2.0
PRODID:-//ChamberMaster//Event Calendar 2.0//EN
METHOD:PUBLISH
X-PUBLISHED-TTL:P3D
REFRESH-INTERVAL:P3D
CALSCALE:GREGORIAN
BEGIN:VEVENT
DTSTART:20181116T140000Z
DTEND:20181116T153000Z
X-MICROSOFT-CDO-ALLDAYEVENT:FALSE
SUMMARY:Aging In Place Business Council
DESCRIPTION:For meeting speakers and locations please visit: https://harrisonburgseniors.wordpress.com/.
X-ALT-DESC;FMTTYPE=text/html:For meeting speakers and locations please visit: <a href="https://harrisonburgseniors.wordpress.com/" target="_blank">https://harrisonburgseniors.wordpress.com/</a>.
LOCATION:Sunnyside Retirement Community The Highlands Room 3935 Sunnyside Drive Harrisonburg\, VA 22801
UID:e.2338.1750
SEQUENCE:3
DTSTAMP:20260420T075206Z
URL:https://chamber.hrchamber.org/events/details/aging-in-place-business-council-11-16-2018-1750
END:VEVENT

END:VCALENDAR
