BEGIN:VCALENDAR
VERSION:2.0
PRODID:-//ChamberMaster//Event Calendar 2.0//EN
METHOD:PUBLISH
X-PUBLISHED-TTL:P3D
REFRESH-INTERVAL:P3D
CALSCALE:GREGORIAN
BEGIN:VEVENT
DTSTART:20190517T130000Z
DTEND:20190517T143000Z
X-MICROSOFT-CDO-ALLDAYEVENT:FALSE
SUMMARY:Aging In Place Business Council
DESCRIPTION:
X-ALT-DESC;FMTTYPE=text/html:
LOCATION:Rockingham County Adminstrative Offices | Community Room 20 East Gay Street Harrisonburg\, VA
UID:e.2338.1756
SEQUENCE:3
DTSTAMP:20260419T225006Z
URL:https://chamber.hrchamber.org/events/details/aging-in-place-business-council-05-17-2019-1756
END:VEVENT

END:VCALENDAR
