BEGIN:VCALENDAR
VERSION:2.0
PRODID:-//ChamberMaster//Event Calendar 2.0//EN
METHOD:PUBLISH
X-PUBLISHED-TTL:P3D
REFRESH-INTERVAL:P3D
CALSCALE:GREGORIAN
BEGIN:VEVENT
DTSTART:20190315T130000Z
DTEND:20190315T143000Z
X-MICROSOFT-CDO-ALLDAYEVENT:FALSE
SUMMARY:Aging In Place Business Council
DESCRIPTION:For meeting speakers and locations please visit: https://harrisonburgseniors.wordpress.com/.
X-ALT-DESC;FMTTYPE=text/html:For meeting speakers and locations please visit: <a href="https://harrisonburgseniors.wordpress.com/" target="_blank">https://harrisonburgseniors.wordpress.com/</a>.
LOCATION:NEW Location Rockingham County Building Community Room 20 East Gay Street Harrisonburg
UID:e.2338.1754
SEQUENCE:3
DTSTAMP:20260420T015023Z
URL:https://chamber.hrchamber.org/events/details/aging-in-place-business-council-03-15-2019-1754
END:VEVENT

END:VCALENDAR
