BEGIN:VCALENDAR
VERSION:2.0
PRODID:-//ChamberMaster//Event Calendar 2.0//EN
METHOD:PUBLISH
X-PUBLISHED-TTL:P3D
REFRESH-INTERVAL:P3D
CALSCALE:GREGORIAN
BEGIN:VEVENT
DTSTART:20180119T140000Z
DTEND:20180119T153000Z
X-MICROSOFT-CDO-ALLDAYEVENT:FALSE
SUMMARY:Aging In Place Business Council
DESCRIPTION:For meeting speakers and locations please visit: https://harrisonburgseniors.wordpress.com/.
X-ALT-DESC;FMTTYPE=text/html:For meeting speakers and locations please visit: <a href="https://harrisonburgseniors.wordpress.com/" target="_blank">https://harrisonburgseniors.wordpress.com/</a>.
LOCATION:VMRC - Detwiler Auditorium 1501 Virginia Avenue Harrisonburg\, VA 22802
UID:e.2338.1740
SEQUENCE:3
DTSTAMP:20260420T073013Z
URL:https://chamber.hrchamber.org/events/details/aging-in-place-business-council-01-19-2018-1740
END:VEVENT

END:VCALENDAR
