BEGIN:VCALENDAR
VERSION:2.0
PRODID:-//ChamberMaster//Event Calendar 2.0//EN
METHOD:PUBLISH
X-PUBLISHED-TTL:P3D
REFRESH-INTERVAL:P3D
CALSCALE:GREGORIAN
BEGIN:VEVENT
DTSTART:20170413T220000Z
DTEND:20170413T230000Z
X-MICROSOFT-CDO-ALLDAYEVENT:FALSE
SUMMARY:Age Well: Prevent Falls
DESCRIPTION:Learn risk factors\, prevention tips and home modifications to reduce your risk of falling.
X-ALT-DESC;FMTTYPE=text/html:Learn risk factors\, prevention tips and home modifications to reduce your risk of falling.
LOCATION:VMRC Detwiler Auditorium 1501 Virginia Ave. Harrisonburg
UID:e.2338.1557
SEQUENCE:3
DTSTAMP:20260421T120743Z
URL:https://chamber.hrchamber.org/events/details/age-well-prevent-falls-1557
END:VEVENT

END:VCALENDAR
