BEGIN:VCALENDAR
VERSION:2.0
PRODID:-//ChamberMaster//Event Calendar 2.0//EN
METHOD:PUBLISH
X-PUBLISHED-TTL:P3D
REFRESH-INTERVAL:P3D
CALSCALE:GREGORIAN
BEGIN:VEVENT
DTSTART:20190124T221500Z
DTEND:20190124T230000Z
X-MICROSOFT-CDO-ALLDAYEVENT:FALSE
SUMMARY:Advancing the Arts Grants Info Session
DESCRIPTION:Advancing the Arts Grants Info Session\n\n \n\nLearn how to apply for an Advancing the Arts grant during this free information session. Arts Council of the Valley representatives will explain the application process\, and art educator Christopher Michael\, recipient of several Advancing the Arts grants\, will share lessons he has learned. ACV's Advancing the Arts grant program supports artists\, art educators\, and organizations working in the visual\, performing\, and literary arts. Funds are awarded to those who advocate for the arts as a basic\, central part of lifelong learning in the Harrisonburg-Rockingham County community. Applications for the spring 2019 cycle must be submitted electronically by 5 pm March 11\, 2019. For more information and application materials\, visit valleyarts.org/advancing-the-arts-grants.\nCONTACT:\n\nAnn Leatherwood\n\nArts Council of the Valley\n\n540.801.8779\n\nAnn@valleyarts.org
X-ALT-DESC;FMTTYPE=text/html:<u><span style="font-family:tahoma\,sans-serif\;"><a href="http://www.valleyarts.org/advancing-the-arts-grants" target="_blank">Advancing the Arts Grants Info Session</a></span></u><br />\n&nbsp\;<br />\n<span style="color:black\;"><span style="font-family:tahoma\,sans-serif\;">Learn how to apply for an Advancing the Arts grant during this free information session. Arts Council of the Valley representatives will explain the application process\, and art educator Christopher Michael\, recipient of several Advancing the Arts grants\, will share lessons he has learned. ACV&rsquo\;s <em>Advancing the Arts </em>grant program supports artists\, art educators\, and organizations working in the visual\, performing\, and literary arts. Funds are awarded to those who advocate for the arts as a basic\, central part of lifelong learning in the Harrisonburg-Rockingham County community. Applications for the spring 2019 cycle must be submitted electronically by 5 pm March 11\, 2019. For more information and application materials\, visit <a href="http://valleyarts.org/advancing-the-arts-grants" target="_blank">valleyarts.org/advancing-the-arts-grants</a>.</span></span>\n<p align="right" style="margin:0in\;margin-bottom:.0001pt\;text-align:right"><b><span style="font-size:10.0pt\;font-family:&quot\;Tahoma&quot\;\,sans-serif\;color:black">CONTACT:</span></b><span style="font-size:9.5pt\;color:black"><o:p></o:p></span></p>\n\n<p align="right" style="margin:0in\;margin-bottom:.0001pt\;text-align:right"><span style="font-size:10.0pt\;font-family:&quot\;Tahoma&quot\;\,sans-serif\;color:black">Ann Leatherwood</span><span style="font-size:9.5pt\;color:black"><o:p></o:p></span></p>\n\n<p align="right" style="margin:0in\;margin-bottom:.0001pt\;text-align:right"><span style="font-size:10.0pt\;font-family:&quot\;Tahoma&quot\;\,sans-serif\;color:black">Arts Council of the Valley</span><span style="font-size:9.5pt\;color:black"><o:p></o:p></span></p>\n\n<p align="right" style="margin:0in\;margin-bottom:.0001pt\;text-align:right"><span style="font-size:10.0pt\;font-family:&quot\;Tahoma&quot\;\,sans-serif\;color:black">540.801.8779</span><span style="font-size:9.5pt\;color:black"><o:p></o:p></span></p>\n\n<p align="right" style="margin:0in\;margin-bottom:.0001pt\;text-align:right"><span style="font-size:10.0pt\;color:black"><a href="mailto:Ann@valleyarts.org" target="_blank"><span style="font-family:&quot\;Tahoma&quot\;\,sans-serif">Ann@valleyarts.org</span></a></span><span style="font-size:9.5pt\;color:black"><o:p></o:p></span></p>\n
LOCATION:Smith House Galleries\, 311 South Main St\, Harrisonburg
UID:e.2338.6307
SEQUENCE:3
DTSTAMP:20260420T043245Z
URL:https://chamber.hrchamber.org/events/details/advancing-the-arts-grants-info-session-6307
END:VEVENT

END:VCALENDAR
