BEGIN:VCALENDAR
VERSION:2.0
PRODID:-//ChamberMaster//Event Calendar 2.0//EN
METHOD:PUBLISH
X-PUBLISHED-TTL:P3D
REFRESH-INTERVAL:P3D
CALSCALE:GREGORIAN
BEGIN:VEVENT
DTSTART:20180509T180000Z
DTEND:20180509T220000Z
X-MICROSOFT-CDO-ALLDAYEVENT:FALSE
SUMMARY:Adopt-A-Cot Blood Drive
DESCRIPTION:As part of the United Way's Day of Caring\, there will be an Adopt-A-Cot blood drive at Virginia Blood Service's Harrisonburg Donor Center at 182 Neff Avenue on Wednesday\, May 9 from 2 pm to 6 pm. Walk-ins are welcome\, but appointments are encouraged. To secure your spot\, call the Center at 540/437-9890 and ask for Chris or Emma.
X-ALT-DESC;FMTTYPE=text/html:As part of the United Way&rsquo\;s Day of Caring\, there will be an Adopt-A-Cot blood drive at Virginia Blood Service&rsquo\;s Harrisonburg Donor Center at 182 Neff Avenue on Wednesday\, May 9 from 2 pm to 6 pm. Walk-ins are welcome\, but appointments are encouraged. To secure your spot\, call the Center at 540/437-9890 and ask for Chris or Emma.
LOCATION:Virginia Blood Servicees 182 Neff Avenue
UID:e.2338.5794
SEQUENCE:3
DTSTAMP:20260420T131425Z
URL:https://chamber.hrchamber.org/events/details/adopt-a-cot-blood-drive-5794
END:VEVENT

END:VCALENDAR
