BEGIN:VCALENDAR
VERSION:2.0
PRODID:-//ChamberMaster//Event Calendar 2.0//EN
METHOD:PUBLISH
X-PUBLISHED-TTL:P3D
REFRESH-INTERVAL:P3D
CALSCALE:GREGORIAN
BEGIN:VEVENT
DTSTART:20190221T140000Z
DTEND:20190221T200000Z
X-MICROSOFT-CDO-ALLDAYEVENT:FALSE
SUMMARY:Admissions Open House
DESCRIPTION:What makes BRCS so special? Come and discover the difference. Open House Feb. 21-22\n\nNow Enrolling! Blue Ridge Christian School is enrolling preschool -12th grade for the 2019-2020 school year. "Loving God\, Developing Character\, Pursuing Academic Excellence"\n\nDaytime tours and student visitation opportunities: Feb. 21-22\, 9:00-3:00.\n\nEvening tours: Feb. 21\, 6:30-8:00 p.m.
X-ALT-DESC;FMTTYPE=text/html:What makes BRCS so special? Come and discover the difference. Open House Feb. 21-22<br />\nNow Enrolling! Blue Ridge Christian School is enrolling preschool -12th grade for the 2019-2020 school year. &quot\;Loving God\, Developing Character\, Pursuing Academic Excellence&quot\;<br />\nDaytime tours and student visitation opportunities: Feb. 21-22\, 9:00-3:00.<br />\nEvening tours: Feb. 21\, 6:30-8:00 p.m.&nbsp\;
LOCATION:Upper School (7th-12th grades) 290 Mill ST. Dayton Lower School (PK-6th grades) 100 Dinkel Ave. Bridgewater
UID:e.2338.6309
SEQUENCE:3
DTSTAMP:20260420T030449Z
URL:https://chamber.hrchamber.org/events/details/admissions-open-house-6309
END:VEVENT

END:VCALENDAR
