BEGIN:VCALENDAR
VERSION:2.0
PRODID:-//ChamberMaster//Event Calendar 2.0//EN
METHOD:PUBLISH
X-PUBLISHED-TTL:P3D
REFRESH-INTERVAL:P3D
CALSCALE:GREGORIAN
BEGIN:VEVENT
DTSTART:20171007T220000Z
DTEND:20171008T020000Z
X-MICROSOFT-CDO-ALLDAYEVENT:FALSE
SUMMARY:ACV's 6th Annual Progressive Party
DESCRIPTION:This autumn\, join Arts Council of the Valley (ACV) for its 6th Annual Progressive Party\, to be held this October 7th at The Columns at Six Penny Farm. ACV progresses to a new location at one of the area's premier wineries\, where evening highlights include: - Musical performances by some of the Valley's most talented entertainers - A newly developed ACV signature drink\, and - Artwork and experiences created by local community artisans and available for purchase during a live auction Ticket sales and proceeds from Progressive Party enable ACV to continue promoting the Arts as fundamental to a vibrant community and providing memorable Arts experiences for the City of Harrisonburg and Rockingham County. Join us as we celebrate and support the success and continued growth of local art and performance in the Shenandoah Valley. For more info and to purchase tickets\, visit valleyarts.org/progressive-party.
X-ALT-DESC;FMTTYPE=text/html:This autumn\, join Arts Council of the Valley (ACV) for its 6th Annual Progressive Party\, to be held this October 7th at The Columns at Six Penny Farm. ACV progresses to a new location at one of the area&#39\;s premier wineries\, where evening highlights include: - Musical performances by some of the Valley&#39\;s most talented entertainers - A newly developed ACV signature drink\, and - Artwork and experiences created by local community artisans and available for purchase during a live auction Ticket sales and proceeds from Progressive Party enable ACV to continue promoting the Arts as fundamental to a vibrant community and providing memorable Arts experiences for the City of Harrisonburg and Rockingham County. Join us as we celebrate and support the success and continued growth of local art and performance in the Shenandoah Valley. For more info and to purchase tickets\, visit valleyarts.org/progressive-party.
LOCATION:The Columns at Six Penny Farm
UID:e.2338.3227
SEQUENCE:3
DTSTAMP:20260420T024326Z
URL:https://chamber.hrchamber.org/events/details/acv-s-6th-annual-progressive-party-3227
END:VEVENT

END:VCALENDAR
