BEGIN:VCALENDAR
VERSION:2.0
PRODID:-//ChamberMaster//Event Calendar 2.0//EN
METHOD:PUBLISH
X-PUBLISHED-TTL:P3D
REFRESH-INTERVAL:P3D
CALSCALE:GREGORIAN
BEGIN:VEVENT
DTSTART:20150731T233000Z
DTEND:20150801T020000Z
X-MICROSOFT-CDO-ALLDAYEVENT:FALSE
SUMMARY:A Taste of the Gulf Winemaker's Dinner
DESCRIPTION:Join us for A Taste of the Gulf- a night of true cajun cuisine catered by Parkhurst Dining Co. To purchase tickets in advance\, please call (540) 828-0099 $59.50 per person plus Tax & gratuity $54.50 for Press Club Members
X-ALT-DESC;FMTTYPE=text/html:Join us for A Taste of the Gulf- a night of true cajun cuisine catered by Parkhurst Dining Co. To purchase tickets in advance\, please call (540) 828-0099 $59.50 per person plus Tax &amp\; gratuity $54.50 for Press Club Members
LOCATION:Bluestone Vineyard
UID:e.2338.268
SEQUENCE:3
DTSTAMP:20260424T191544Z
URL:https://chamber.hrchamber.org/events/details/a-taste-of-the-gulf-winemaker-s-dinner-07-31-2015-268
END:VEVENT

END:VCALENDAR
