BEGIN:VCALENDAR
VERSION:2.0
PRODID:-//ChamberMaster//Event Calendar 2.0//EN
METHOD:PUBLISH
X-PUBLISHED-TTL:P3D
REFRESH-INTERVAL:P3D
CALSCALE:GREGORIAN
BEGIN:VEVENT
DTSTART:20170611T203000Z
DTEND:20170611T223500Z
X-MICROSOFT-CDO-ALLDAYEVENT:FALSE
SUMMARY:A Quiet Passion
DESCRIPTION:Cynthia Nixon delivers a triumphant performance as Emily Dickinson as she personifies the wit\, intellectual independence and pathos of the poet whose genius only came to be recognized after her death. Acclaimed British director Terence Davies (House of Mirth\, The Deep Blue Sea) exquisitely evokes Dickinson's deep attachment to her close knit family along with the manners\, mores and spiritual convictions of her time that she struggled with and transcended in her poetry.
X-ALT-DESC;FMTTYPE=text/html:Cynthia Nixon delivers a triumphant performance as Emily Dickinson as she personifies the wit\, intellectual independence and pathos of the poet whose genius only came to be recognized after her death. Acclaimed British director Terence Davies (House of Mirth\, The Deep Blue Sea) exquisitely evokes Dickinson&#39\;s deep attachment to her close knit family along with the manners\, mores and spiritual convictions of her time that she struggled with and transcended in her poetry.
LOCATION:Court Square Theater 41-F Court Square Harrisonburg\, VA 22801
UID:e.2338.3013
SEQUENCE:3
DTSTAMP:20260419T204219Z
URL:https://chamber.hrchamber.org/events/details/a-quiet-passion-06-11-2017-3013
END:VEVENT

END:VCALENDAR
