BEGIN:VCALENDAR
VERSION:2.0
PRODID:-//ChamberMaster//Event Calendar 2.0//EN
METHOD:PUBLISH
X-PUBLISHED-TTL:P3D
REFRESH-INTERVAL:P3D
CALSCALE:GREGORIAN
BEGIN:VEVENT
DTSTART:20170603T170000Z
DTEND:20170603T190000Z
X-MICROSOFT-CDO-ALLDAYEVENT:FALSE
SUMMARY:A "Project Runway" for Quilters
DESCRIPTION:Hosted at the Virginia Quilt Museum starting at 1:00 pm\, A "Project Runway" for Quilters!! Brought to you by Patchwork Plus of Dayton. This event is the Season Finale - See the works from all six challenges so far! Watch as the two finalists vie for the grand prize! Enjoy refreshments and discover who makes quilt history!
X-ALT-DESC;FMTTYPE=text/html:Hosted at the Virginia Quilt Museum starting at 1:00 pm\, A &quot\;Project Runway&quot\; for Quilters!! Brought to you by Patchwork Plus of Dayton. This event is the Season Finale - See the works from all six challenges so far! Watch as the two finalists vie for the grand prize! Enjoy refreshments and discover who makes quilt history!
LOCATION:Virginia Quilt Museum 301 S. Main St. Harrisonburg\, VA
UID:e.2338.2704
SEQUENCE:3
DTSTAMP:20260419T204848Z
URL:https://chamber.hrchamber.org/events/details/a-project-runway-for-quilters-2704
END:VEVENT

END:VCALENDAR
