BEGIN:VCALENDAR
VERSION:2.0
PRODID:-//ChamberMaster//Event Calendar 2.0//EN
METHOD:PUBLISH
X-PUBLISHED-TTL:P3D
REFRESH-INTERVAL:P3D
CALSCALE:GREGORIAN
BEGIN:VEVENT
DTSTART:20190212T180000Z
DTEND:20190212T220000Z
X-MICROSOFT-CDO-ALLDAYEVENT:FALSE
SUMMARY:A Matter of Balance Coach Training Registration
DESCRIPTION:Matter of Balance Coach Training\n\n\n\nEvery 11 seconds an older adult is treated in the ER for a fall.  As a Matter of Balance Coach\, you can help prevent older adults in Harrisonburg and Rockingham County from becoming a statistic.\n\nA Matter of Balance (MOB) addresses the fear of falling that many older adults experience.  People who develop this fear often limit their activities\, which can result in physical weakness\, making the risk of falling even greater. This program is designed to reduce the fear of falling and increase activity levels among older adults.\n\nWhat kind of coach are we looking for?\n\n\n	Good communication and interpersonal skills.\n	Willingness to lead a small group.\n	Interest in working with older adults.\n	Life experiences valued- with education or health care experience a plus.\n	Ability to perform range of motion and low-level endurance exercises. Ability to carry up to 20 lbs.\n\n\nCoaches are asked to make a commitment to lead two workshops for Valley Program for Aging Services (VPAS).\n\nTraining coming up on Feb. 5 and 12.  Register today by contacting Joyce or call (540) 615-5341.
X-ALT-DESC;FMTTYPE=text/html:<p><strong>Matter of Balance Coach Training</strong><br />\n<br />\nEvery 11 seconds an older adult is treated in the ER for a fall.&nbsp\; As a Matter of Balance Coach\, you can help prevent older adults in Harrisonburg and Rockingham County from becoming a statistic.</p>\n\n<p><strong>A Matter of Balance (MOB)&nbsp\;</strong>addresses the fear of falling that many older adults experience.&nbsp\; People who develop this fear often limit their activities\, which can result in physical weakness\, making the risk of falling even greater. This program is designed to reduce the fear of falling and increase activity levels among older adults.</p>\n\n<p>What kind of coach are we looking for?</p>\n\n<ul>\n	<li>Good communication and interpersonal skills.</li>\n	<li>Willingness to lead a small group.</li>\n	<li>Interest in working with older adults.</li>\n	<li>Life experiences valued- with education or health care experience a plus.</li>\n	<li>Ability to perform range of motion and low-level endurance exercises. Ability to carry up to 20 lbs.</li>\n</ul>\n\n<p>Coaches are asked to make a commitment to lead two&nbsp\;workshops for Valley Program for Aging Services (VPAS).</p>\n\n<p><strong>Training coming up on Feb. 5 and 12.&nbsp\;&nbsp\;<a href="http://getconnected.uwhr.org/content/getconnected.uwhr.org/users/user-51vc/MOB%20Coach%20Training%20Registration%20form%20Feb%202019.jpg" style="box-sizing: border-box\; background-color: transparent\; color: rgb(32\, 38\, 134)\; text-decoration-line: none\; transition: all 0.2s ease 0s\; cursor: pointer\;">Register today</a>&nbsp\;by contacting <a href="mailto:joyce@vpas.info">Joyce</a>&nbsp\;or call (540) 615-5341.</strong></p>\n
LOCATION:VPAS Harrisonburg Senior Center\, 315 S. Dogwood Avenue
UID:e.2338.6289
SEQUENCE:3
DTSTAMP:20260420T032548Z
URL:https://chamber.hrchamber.org/events/details/a-matter-of-balance-coach-training-registration-02-12-2019-6289
END:VEVENT

END:VCALENDAR
