BEGIN:VCALENDAR
VERSION:2.0
PRODID:-//ChamberMaster//Event Calendar 2.0//EN
METHOD:PUBLISH
X-PUBLISHED-TTL:P3D
REFRESH-INTERVAL:P3D
CALSCALE:GREGORIAN
BEGIN:VEVENT
DTSTART:20181209T000000Z
DTEND:20181209T020000Z
X-MICROSOFT-CDO-ALLDAYEVENT:FALSE
SUMMARY:A Christmas Carol - An adaption of the Charles Dickens novela
DESCRIPTION:A Christmas Carol - An adaption of the Charles Dickens novela \n\nby Greg Oliver Bodine\n\nProduced by special arrangement with Playscripts\, Inc. (www.playscripts.com) \n\nFeaturing Richard Clem\n\n\n\nSchultz regular Richard Clem offers a one-man performance of "A Christmas Carol" in this unique production. Presented as a narration\, many of the characters of the famous Dickens Christmas novel come to life as told through the eyes of the narrator. Witness the progression of Scrooge through each of the events as foretold by his deceased business partner Jacob Marley. Watch as Scrooge sees the highlights of his past\, present and future told through his encounters with each of the spirits. See the transformative effect learning what the tale of each of the spirits has taught Scrooge in becoming more human. Share in this timeless tale of Christmas discovery and redemption in an evening at the Schultz!!
X-ALT-DESC;FMTTYPE=text/html:A Christmas Carol - An adaption of the Charles Dickens novela&nbsp\;<br />\nby Greg Oliver Bodine<br />\nProduced by special arrangement with Playscripts\, Inc. (www.playscripts.com)&nbsp\;<br />\nFeaturing Richard Clem<br />\n<br />\nSchultz regular Richard Clem offers a one-man performance of &ldquo\;A Christmas Carol&rdquo\; in this unique production. Presented as a narration\, many of the characters of the famous Dickens Christmas novel come to life as told through the eyes of the narrator. Witness the progression of Scrooge through each of the events as foretold by his deceased business partner Jacob Marley. Watch as Scrooge sees the highlights of his past\, present and future told through his encounters with each of the spirits. See the transformative effect learning what the tale of each of the spirits has taught Scrooge in becoming more human. Share in this timeless tale of Christmas discovery and redemption in an evening at the Schultz!!<br />\n<br />\n<br />\n&nbsp\;
LOCATION:The Schultz Theatre and School of Performing Arts J. Frank Hillyard Auditorium 226 Hawks Hill Drive Broadway\, Virginia 22815
UID:e.2338.6128
SEQUENCE:3
DTSTAMP:20260420T062449Z
URL:https://chamber.hrchamber.org/events/details/a-christmas-carol-an-adaption-of-the-charles-dickens-novela-6128
END:VEVENT

END:VCALENDAR
