BEGIN:VCALENDAR
VERSION:2.0
PRODID:-//ChamberMaster//Event Calendar 2.0//EN
METHOD:PUBLISH
X-PUBLISHED-TTL:P3D
REFRESH-INTERVAL:P3D
CALSCALE:GREGORIAN
BEGIN:VEVENT
DTSTART:20181128T003000Z
DTEND:20181128T023000Z
X-MICROSOFT-CDO-ALLDAYEVENT:FALSE
SUMMARY:A Bach Festival Christmas
DESCRIPTION:The Shenandoah Valley Bach Festival\, now in its 27th Season\, will celebrate the holidays with "A Bach Festival Christmas" Tuesday\, November 27\, 2018 at 7:30pm. The performance will take place in Martin Chapel in the EMU Seminary Building. The concert is free and open to the public\; donations will be gratefully accepted to benefit the Shenandoah Valley Bach Festival.\n\n \n\nThis festive concert will feature soprano Sheena Ramirez\, trumpet player Judith Saxton\, trombonist Jay Crone\, pianist David Berry\, and the Bach Festival String Quartet. Artistic Director Kenneth Nafziger will lead the assembled forces in works of Bach\, Handel\, and Vivaldi\, plus some of the season's most famous carols.\n\n \n\nA reception will follow the concert.
X-ALT-DESC;FMTTYPE=text/html:<span style="color:black"><span style="font-family:arial\,sans-serif"><span style="font-size:14.0pt">The Shenandoah Valley Bach Festival\, now in its 27th Season\, will celebrate the holidays with &ldquo\;A Bach Festival Christmas&rdquo\; Tuesday\, November 27\, 2018 at 7:30pm. The performance will take place in Martin Chapel in the EMU Seminary Building. The concert is free and open to the public\; donations will be gratefully accepted to benefit the Shenandoah Valley Bach Festival.</span></span></span><br />\n&nbsp\;<br />\n<span style="color:black"><span style="font-family:arial\,sans-serif"><span style="font-size:14.0pt">This festive concert will feature soprano Sheena Ramirez\, trumpet player Judith Saxton\, trombonist Jay Crone\, pianist David Berry\, and the Bach Festival String Quartet. Artistic Director Kenneth Nafziger will lead the assembled forces in works of Bach\, Handel\, and Vivaldi\, plus some of the season&rsquo\;s most famous carols.</span></span></span><br />\n&nbsp\;<br />\n<span style="color:black"><span style="font-family:arial\,sans-serif"><span style="font-size:14.0pt">A reception will follow the concert.</span></span></span>
LOCATION:Martin Chapel\, EMU Seminary Building 1181 Smith Avenue\, Harrisonburg\, VA
UID:e.2338.6099
SEQUENCE:3
DTSTAMP:20260420T074905Z
URL:https://chamber.hrchamber.org/events/details/a-bach-festival-christmas-6099
END:VEVENT

END:VCALENDAR
