BEGIN:VCALENDAR
VERSION:2.0
PRODID:-//ChamberMaster//Event Calendar 2.0//EN
METHOD:PUBLISH
X-PUBLISHED-TTL:P3D
REFRESH-INTERVAL:P3D
CALSCALE:GREGORIAN
BEGIN:VEVENT
DTSTART:20171103T120000Z
DTEND:20171103T183000Z
X-MICROSOFT-CDO-ALLDAYEVENT:FALSE
SUMMARY:6th Annual Harrisonburg & Rockingham Bike-Walk Summit
DESCRIPTION:Presented by: The Shenandoah Valley Bicycle Coalition (SVBC) and the Harrisonburg-Rockingham Metropolitan Planning Organization (HRMPO)\n\n2017 Harrisonburg & Rockingham Bike-Walk Summit\n\nFriday\, November 3\, 2017\n\n\nJames Madison University Campus\n\n\nThe 2017 Harrisonburg & Rockingham Bike-Walk Summit will be held on November 3\, 2017\, from 8:00 AM to 2:30 PM on the James Madison University (JMU) campus.\n\nEach year the Bike-Walk Summit brings together a broad range of partners who are working to make Harrisonburg and Rockingham County a great biking and walking community to live in and visit. This year the theme is "Engaging to Create Walkable and Bikeable Communities\," with a keynote address from Fionnuala Quinn\, Founder and Director of The Bureau of Good Roads. Her talk and interactive\, hands-on sessions will focus on engaging whole communities in the planning and design process to create successful walking and biking facilities that meet the public's needs. Breakfast and lunch will be provided for all attendees.\n \n\nGoals of the Summit\n\n1. To develop relationships and partnerships between the stakeholders in the bicycle and pedestrian development in the city and county.\n\n2. To coordinate and build on the bicycle and pedestrian efforts between the city\, county\, and other key stakeholders to make our region more bicycle and pedestrian friendly\n\n3. To educate elected officials\, planners and decision makers to the community\, health and economic benefits of bicycling and walking.\n\n4. To identify specific actions that are needed to make Harrisonburg and Rockingham County the Bike and Pedestrian Community of Virginia\n\n5. To develop collaborative bike and pedestrian action steps for the coming year.
X-ALT-DESC;FMTTYPE=text/html:<p style="box-sizing: border-box\; word-wrap: break-word\; color: rgb(0\, 0\, 0)\; font-family: sans-serif\; font-size: 16px\; background-color: rgb(247\, 247\, 247)\; text-align: center\;"><span style="box-sizing: border-box\; word-wrap: break-word\;"><strong style="box-sizing: border-box\; word-wrap: break-word\;">Presented by:</strong>&nbsp\;The&nbsp\;<a href="http://svbcoalition.org/" style="box-sizing: border-box\; word-wrap: break-word\; color: rgb(30\, 115\, 190)\;">Shenandoah Valley Bicycle Coalition (SVBC)&nbsp\;</a>and the&nbsp\;<a href="http://www.hrvampo.org/" style="box-sizing: border-box\; word-wrap: break-word\; color: rgb(30\, 115\, 190)\;">Harrisonburg-Rockingham Metropolitan&nbsp\;Planning Organization (HRMPO)</a></span></p>\n\n<div align="center" style="box-sizing: border-box\; word-wrap: break-word\; color: rgb(0\, 0\, 0)\; font-family: sans-serif\; font-size: 16px\; background-color: rgb(247\, 247\, 247)\;"><strong style="box-sizing: border-box\; word-wrap: break-word\;">2017 Harrisonburg &amp\; Rockingham Bike-Walk Summit</strong></div>\n\n<div align="center" style="box-sizing: border-box\; word-wrap: break-word\; color: rgb(0\, 0\, 0)\; font-family: sans-serif\; font-size: 16px\; background-color: rgb(247\, 247\, 247)\;"><span class="aBn" data-term="goog_1264471733" style="box-sizing: border-box\; word-wrap: break-word\;" tabindex="0">Friday\, November 3\, 2017</span></div>\n\n<div align="center" style="box-sizing: border-box\; word-wrap: break-word\; color: rgb(0\, 0\, 0)\; font-family: sans-serif\; font-size: 16px\; background-color: rgb(247\, 247\, 247)\;">\n<p style="box-sizing: border-box\; word-wrap: break-word\;">James Madison University Campus</p>\n</div>\n\n<div align="justify" style="box-sizing: border-box\; word-wrap: break-word\; color: rgb(0\, 0\, 0)\; font-family: sans-serif\; font-size: 16px\; background-color: rgb(247\, 247\, 247)\;">The&nbsp\;<a data-saferedirecturl="https://www.google.com/url?hl=en&amp\;q=http://r20.rs6.net/tn.jsp?f%3D0012XvXI6dlZybi46U7MmfjFp5FDZ9K1clf-BJ8VNCq1YCFVbCk3ZheYAOjYZpq1tlg2aUhbba_iF9hM4L79FKkq4WzlfstaJhOJyMxoYbou_oAuLX3S1maFe2MD6gU3xMrmroiolt8JDVV-d3TZ27JYtA1z6fFn5fxvqV2gjg_GRux2bfEys2umkbzXfnU8ze15mJaGJjtrLo%3D%26c%3DL86MiMz7jWbTlMK5lOjGF_fs8RuyWn3rQRUtAfqO-BNVF0q6b9ILFQ%3D%3D%26ch%3DEtXPd5Lae8iGUpmTL3oYc0MpvQdMULAbRJM43G5GHECaBqy0RE3e_Q%3D%3D&amp\;source=gmail&amp\;ust=1506810815914000&amp\;usg=AFQjCNE_l-RtMT9UnOxm1lCLqIj0Rm1Vcw" href="http://r20.rs6.net/tn.jsp?f=0012XvXI6dlZybi46U7MmfjFp5FDZ9K1clf-BJ8VNCq1YCFVbCk3ZheYAOjYZpq1tlg2aUhbba_iF9hM4L79FKkq4WzlfstaJhOJyMxoYbou_oAuLX3S1maFe2MD6gU3xMrmroiolt8JDVV-d3TZ27JYtA1z6fFn5fxvqV2gjg_GRux2bfEys2umkbzXfnU8ze15mJaGJjtrLo=&amp\;c=L86MiMz7jWbTlMK5lOjGF_fs8RuyWn3rQRUtAfqO-BNVF0q6b9ILFQ==&amp\;ch=EtXPd5Lae8iGUpmTL3oYc0MpvQdMULAbRJM43G5GHECaBqy0RE3e_Q==" rel="noopener" shape="rect" style="box-sizing: border-box\; word-wrap: break-word\; color: rgb(30\, 115\, 190)\;" target="_blank">2017 Harrisonburg &amp\; Rockingham Bike-Walk Summit</a>&nbsp\;will be held on&nbsp\;November 3\, 2017\, from&nbsp\;8:00 AM to 2:30 PM&nbsp\;on the James Madison University (JMU) campus.</div>\n\n<div align="justify" style="box-sizing: border-box\; word-wrap: break-word\; color: rgb(0\, 0\, 0)\; font-family: sans-serif\; font-size: 16px\; background-color: rgb(247\, 247\, 247)\;">Each year the Bike-Walk Summit brings together a broad range of partners who are working to make Harrisonburg and Rockingham County a great biking and walking community to live in and visit. This year the theme is&nbsp\;<span style="box-sizing: border-box\; word-wrap: break-word\; color: rgb(255\, 0\, 0)\;"><em style="box-sizing: border-box\; word-wrap: break-word\;"><strong style="box-sizing: border-box\; word-wrap: break-word\;">&ldquo\;Engaging to Create Walkable and Bikeable Communities\,&rdquo\;</strong></em></span>&nbsp\;with a keynote address from&nbsp\;<strong style="box-sizing: border-box\; word-wrap: break-word\;">Fionnuala Quinn</strong>\, Founder and Director of&nbsp\;<a data-saferedirecturl="https://www.google.com/url?hl=en&amp\;q=http://r20.rs6.net/tn.jsp?f%3D0012XvXI6dlZybi46U7MmfjFp5FDZ9K1clf-BJ8VNCq1YCFVbCk3ZheYHzVZ_CO6JyXfMEopnMwk1ROqHHA0S7BGw-a4sTMvdgc2bSaVUUeG74symiDEOxeGCVQ3RCL6Cj7x5f-sQUaYKgTPEuic_8SZxGY1EP3J4VevHfi2cu0G5tn7ow11gwBSKn6BMdYZNKl%26c%3DL86MiMz7jWbTlMK5lOjGF_fs8RuyWn3rQRUtAfqO-BNVF0q6b9ILFQ%3D%3D%26ch%3DEtXPd5Lae8iGUpmTL3oYc0MpvQdMULAbRJM43G5GHECaBqy0RE3e_Q%3D%3D&amp\;source=gmail&amp\;ust=1506810815914000&amp\;usg=AFQjCNFHjrN3dbaSYZYzF_Oeh3F4XV01ng" href="http://r20.rs6.net/tn.jsp?f=0012XvXI6dlZybi46U7MmfjFp5FDZ9K1clf-BJ8VNCq1YCFVbCk3ZheYHzVZ_CO6JyXfMEopnMwk1ROqHHA0S7BGw-a4sTMvdgc2bSaVUUeG74symiDEOxeGCVQ3RCL6Cj7x5f-sQUaYKgTPEuic_8SZxGY1EP3J4VevHfi2cu0G5tn7ow11gwBSKn6BMdYZNKl&amp\;c=L86MiMz7jWbTlMK5lOjGF_fs8RuyWn3rQRUtAfqO-BNVF0q6b9ILFQ==&amp\;ch=EtXPd5Lae8iGUpmTL3oYc0MpvQdMULAbRJM43G5GHECaBqy0RE3e_Q==" rel="noopener" shape="rect" style="box-sizing: border-box\; word-wrap: break-word\; color: rgb(30\, 115\, 190)\;" target="_blank">The Bureau of Good Roads</a>. Her talk and interactive\, hands-on sessions will focus on engaging whole communities in the planning and design process to create successful walking and biking facilities that meet the public&rsquo\;s needs. Breakfast and lunch will be provided for all attendees.</div>\n&nbsp\;\n\n<h2 style="box-sizing: border-box\; word-wrap: break-word\; color: rgb(0\, 0\, 0)\; font-family: sans-serif\; background-color: rgb(247\, 247\, 247)\;">Goals of the Summit</h2>\n\n<p style="box-sizing: border-box\; word-wrap: break-word\; color: rgb(0\, 0\, 0)\; font-family: sans-serif\; font-size: 16px\; background-color: rgb(247\, 247\, 247)\;">1. To develop relationships and partnerships between the stakeholders in the bicycle and&nbsp\;pedestrian development in the city and county.</p>\n\n<p style="box-sizing: border-box\; word-wrap: break-word\; color: rgb(0\, 0\, 0)\; font-family: sans-serif\; font-size: 16px\; background-color: rgb(247\, 247\, 247)\;">2. To coordinate and build on the bicycle and pedestrian efforts between the city\, county\, and other key stakeholders to make our region more bicycle and pedestrian friendly</p>\n\n<p style="box-sizing: border-box\; word-wrap: break-word\; color: rgb(0\, 0\, 0)\; font-family: sans-serif\; font-size: 16px\; background-color: rgb(247\, 247\, 247)\;">3. To educate elected officials\, planners and decision makers to the community\, health and economic benefits of&nbsp\;bicycling and walking.</p>\n\n<p style="box-sizing: border-box\; word-wrap: break-word\; color: rgb(0\, 0\, 0)\; font-family: sans-serif\; font-size: 16px\; background-color: rgb(247\, 247\, 247)\;">4. To identify specific actions that are needed to make Harrisonburg and Rockingham&nbsp\;County the Bike and Pedestrian Community of Virginia</p>\n\n<p style="box-sizing: border-box\; word-wrap: break-word\; color: rgb(0\, 0\, 0)\; font-family: sans-serif\; font-size: 16px\; background-color: rgb(247\, 247\, 247)\;">5. To develop collaborative bike and pedestrian action steps for the coming year.</p>\n
LOCATION:
UID:e.2338.3302
SEQUENCE:3
DTSTAMP:20260420T055204Z
URL:https://chamber.hrchamber.org/events/details/6th-annual-harrisonburg-rockingham-bike-walk-summit-3302
END:VEVENT

END:VCALENDAR
