BEGIN:VCALENDAR
VERSION:2.0
PRODID:-//ChamberMaster//Event Calendar 2.0//EN
METHOD:PUBLISH
X-PUBLISHED-TTL:P3D
REFRESH-INTERVAL:P3D
CALSCALE:GREGORIAN
BEGIN:VEVENT
DTSTART:20190602T170000Z
DTEND:20190602T200000Z
X-MICROSOFT-CDO-ALLDAYEVENT:FALSE
SUMMARY:4th Annual Walk for the Animals
DESCRIPTION:Join us June 2nd for Anicira's 4th Annual Walk for the Animals presented by Bob Wade Subaru at Bluestone Vineyards in Bridgewater\, VA.\n\n\n\nThis event brings together hundreds of animal lovers for a fun filled day.  Enjoy food\, wine\, and activities for humans and dogs alike! The day is started with a one mile walk through the vineyards followed by a doggy field games\, activity course\, wine\, music and an inflatable wrecking ball.\n\nHelp us reach our goal by setting up a personal fundraising page and asking your friends and family to donate.\n\n100% of the proceeds go to our lifesaving programs.
X-ALT-DESC;FMTTYPE=text/html:<div style="text-align: center\;">Join us June 2nd for Anicira&#39\;s 4th Annual Walk for the Animals presented by Bob Wade Subaru&nbsp\;at Bluestone Vineyards in Bridgewater\, VA.<br />\n<br />\nThis event brings together hundreds of animal lovers for a fun filled day.&nbsp\; Enjoy food\, wine\, and activities for humans and dogs alike! The day is started with a one mile walk through the vineyards followed by a doggy field games\, activity course\, wine\, music and an inflatable wrecking ball.</div>\n\n<p style="text-align: center\;">Help us reach our goal by setting up a personal fundraising page and asking your friends and family to donate.<br />\n100% of the proceeds go to our lifesaving programs.</p>\n
LOCATION:Bluestone Vineyards 4828 Spring Creek Rd Bridgewater\, VA 22812
UID:e.2338.6368
SEQUENCE:3
DTSTAMP:20260419T211201Z
URL:https://chamber.hrchamber.org/events/details/4th-annual-walk-for-the-animals-6368
END:VEVENT

END:VCALENDAR
